BEGIN:VCALENDAR
VERSION:2.0
PRODID:-//Park City Wine Club - ECPv6.15.20//NONSGML v1.0//EN
CALSCALE:GREGORIAN
METHOD:PUBLISH
X-WR-CALNAME:Park City Wine Club
X-ORIGINAL-URL:https://parkcitywineclub.com
X-WR-CALDESC:Events for Park City Wine Club
REFRESH-INTERVAL;VALUE=DURATION:PT1H
X-Robots-Tag:noindex
X-PUBLISHED-TTL:PT1H
BEGIN:VTIMEZONE
TZID:America/Denver
BEGIN:DAYLIGHT
TZOFFSETFROM:-0700
TZOFFSETTO:-0600
TZNAME:MDT
DTSTART:20250309T090000
END:DAYLIGHT
BEGIN:STANDARD
TZOFFSETFROM:-0600
TZOFFSETTO:-0700
TZNAME:MST
DTSTART:20251102T080000
END:STANDARD
BEGIN:DAYLIGHT
TZOFFSETFROM:-0700
TZOFFSETTO:-0600
TZNAME:MDT
DTSTART:20260308T090000
END:DAYLIGHT
BEGIN:STANDARD
TZOFFSETFROM:-0600
TZOFFSETTO:-0700
TZNAME:MST
DTSTART:20261101T080000
END:STANDARD
BEGIN:DAYLIGHT
TZOFFSETFROM:-0700
TZOFFSETTO:-0600
TZNAME:MDT
DTSTART:20270314T090000
END:DAYLIGHT
BEGIN:STANDARD
TZOFFSETFROM:-0600
TZOFFSETTO:-0700
TZNAME:MST
DTSTART:20271107T080000
END:STANDARD
END:VTIMEZONE
BEGIN:VEVENT
DTSTART;TZID=America/Denver:20260422T180000
DTEND;TZID=America/Denver:20260422T193000
DTSTAMP:20260422T034852
CREATED:20260408T183744Z
LAST-MODIFIED:20260408T183744Z
UID:2064-1776880800-1776886200@parkcitywineclub.com
SUMMARY:Chocolate & Wine Tasting Experience at Jeremy Ranch Country Club\, Wednesday\, April 22nd\, 6 pm
DESCRIPTION:Celebrate Earth Day at Jeremy Ranch\, April 22nd\, 6 pm with Ritual Chocolates and fine wine. \nUnderstand the “terroir”— sense of place—that both these ancient crops carry. \nPairing the complex\, earthy notes of bean-to-bar chocolate with curated wines in a fun and delicious sensory experience as we explore the magic of Ritual Chocolates “Bean to Bar”\, tasting a variety of chocolates paired with five select wines. \nMust be 21+ – Cost is $65. Reservations are required RESERVE HERE \n48 hour cancellation policy applies
URL:https://parkcitywineclub.com/events/chocolate-wine-tasting-experience-at-jeremy-ranch-country-club-wednesday-april-22nd-6-pm/
LOCATION:Jeremy Ranch Golf & Country CLub\, Jeremy Ranch Rd\, Park City\, UT\, 84098\, United States
CATEGORIES:PCWC Live Tasting Event,Wine Happenings in Utah
ORGANIZER;CN="Park City Wine Club":MAILTO:parkcitywineclub@gmail.com
END:VEVENT
END:VCALENDAR