BEGIN:VCALENDAR
VERSION:2.0
PRODID:-//Park City Wine Club - ECPv6.15.20//NONSGML v1.0//EN
CALSCALE:GREGORIAN
METHOD:PUBLISH
X-WR-CALNAME:Park City Wine Club
X-ORIGINAL-URL:https://parkcitywineclub.com
X-WR-CALDESC:Events for Park City Wine Club
REFRESH-INTERVAL;VALUE=DURATION:PT1H
X-Robots-Tag:noindex
X-PUBLISHED-TTL:PT1H
BEGIN:VTIMEZONE
TZID:America/Denver
BEGIN:DAYLIGHT
TZOFFSETFROM:-0700
TZOFFSETTO:-0600
TZNAME:MDT
DTSTART:20240310T090000
END:DAYLIGHT
BEGIN:STANDARD
TZOFFSETFROM:-0600
TZOFFSETTO:-0700
TZNAME:MST
DTSTART:20241103T080000
END:STANDARD
BEGIN:DAYLIGHT
TZOFFSETFROM:-0700
TZOFFSETTO:-0600
TZNAME:MDT
DTSTART:20250309T090000
END:DAYLIGHT
BEGIN:STANDARD
TZOFFSETFROM:-0600
TZOFFSETTO:-0700
TZNAME:MST
DTSTART:20251102T080000
END:STANDARD
BEGIN:DAYLIGHT
TZOFFSETFROM:-0700
TZOFFSETTO:-0600
TZNAME:MDT
DTSTART:20260308T090000
END:DAYLIGHT
BEGIN:STANDARD
TZOFFSETFROM:-0600
TZOFFSETTO:-0700
TZNAME:MST
DTSTART:20261101T080000
END:STANDARD
END:VTIMEZONE
BEGIN:VEVENT
DTSTART;TZID=America/Denver:20250618T183000
DTEND;TZID=America/Denver:20250618T210000
DTSTAMP:20260419T214228
CREATED:20250417T210535Z
LAST-MODIFIED:20250715T030913Z
UID:1851-1750271400-1750280400@parkcitywineclub.com
SUMMARY:Wine & Dine ~ Winemaker Dinner\, June 18th @ Jeremy Ranch 5 courses w/ Covenant Wines
DESCRIPTION:Wine & Dine on the Patio\, June 18th\, 6:30 pm. Let’s celebrate summer at Jeremy Ranch Golf and Country Club with Jeff Morgan\, Founder and winemaker of Covenant Wines –  Four couses plus dessert all with extraordianry Covenant wines – space is limited so reserve you spot early- Cost is $145 includes tax and gartuity! RESERVE HERE\n\n 
URL:https://parkcitywineclub.com/events/save-the-date-summer-winemaker-dinner-june-18th-jeremy-ranch-with-covenant-wines-more-info-coming-in-may/
LOCATION:Jeremy Ranch Golf & Country CLub\, Jeremy Ranch Rd\, Park City\, UT\, 84098\, United States
CATEGORIES:Dinner Pairings,PCWC Live Tasting Event,Wine Happenings in Utah
ORGANIZER;CN="Park City Wine Club":MAILTO:parkcitywineclub@gmail.com
END:VEVENT
END:VCALENDAR