BEGIN:VCALENDAR
VERSION:2.0
PRODID:-//Park City Wine Club - ECPv6.15.20//NONSGML v1.0//EN
CALSCALE:GREGORIAN
METHOD:PUBLISH
X-WR-CALNAME:Park City Wine Club
X-ORIGINAL-URL:https://parkcitywineclub.com
X-WR-CALDESC:Events for Park City Wine Club
REFRESH-INTERVAL;VALUE=DURATION:PT1H
X-Robots-Tag:noindex
X-PUBLISHED-TTL:PT1H
BEGIN:VTIMEZONE
TZID:America/Denver
BEGIN:DAYLIGHT
TZOFFSETFROM:-0700
TZOFFSETTO:-0600
TZNAME:MDT
DTSTART:20190310T090000
END:DAYLIGHT
BEGIN:STANDARD
TZOFFSETFROM:-0600
TZOFFSETTO:-0700
TZNAME:MST
DTSTART:20191103T080000
END:STANDARD
BEGIN:DAYLIGHT
TZOFFSETFROM:-0700
TZOFFSETTO:-0600
TZNAME:MDT
DTSTART:20200308T090000
END:DAYLIGHT
BEGIN:STANDARD
TZOFFSETFROM:-0600
TZOFFSETTO:-0700
TZNAME:MST
DTSTART:20201101T080000
END:STANDARD
BEGIN:DAYLIGHT
TZOFFSETFROM:-0700
TZOFFSETTO:-0600
TZNAME:MDT
DTSTART:20210314T090000
END:DAYLIGHT
BEGIN:STANDARD
TZOFFSETFROM:-0600
TZOFFSETTO:-0700
TZNAME:MST
DTSTART:20211107T080000
END:STANDARD
END:VTIMEZONE
BEGIN:VEVENT
DTSTART;TZID=America/Denver:20200918T173000
DTEND;TZID=America/Denver:20200918T183000
DTSTAMP:20260419T182500
CREATED:20200821T203635Z
LAST-MODIFIED:20200821T203836Z
UID:653-1600450200-1600453800@parkcitywineclub.com
SUMMARY:Quarantine Relief Tasting Kit - Cabernet Flight of Four - September 18th\, 5:30 pm
DESCRIPTION:Time to take Flight “Cabernet Sauvignon” Order your Quarantine Relief Tasting Kit now and enjoy; Four – 5oz mini bottles of select wines for tasting (2 oz pours per person) with three cheese selections\, meats\, nuts\, fruit and / or crackers\, and Tandem chocolates! Kit serves 2 people\, also available for a single. A tasting/pairing guide will be sent to all who order and this includes contactles FREE delivery* and a live Zoom tasting with me on Friday\, September 18th at 5:30pm!\nStock is limited – Order today – parkcitywineclub.com\nMust be 21+ cost is $90 for a kit that is for two people ($45 each) Order by Tuesday\, Sept. 16th for FREE delivery on Thursday.\n*Free delivery in Summit & Wasatch counties – can arrange p/u location for SLC orders.
URL:https://parkcitywineclub.com/events/quarantine-relief-tasting-kit-cabernet-flight-of-four-sepatember-18th-530-pm/
CATEGORIES:Virtual Tastings
END:VEVENT
BEGIN:VEVENT
DTSTART;TZID=America/Denver:20200616T173000
DTEND;TZID=America/Denver:20200616T183000
DTSTAMP:20260419T182500
CREATED:20200525T012641Z
LAST-MODIFIED:20200601T193521Z
UID:584-1592328600-1592332200@parkcitywineclub.com
SUMMARY:Tuesday's Tasting - Italy's Tuscany & Puglia Regions\, Tuesday\, June 16th 5:30 pm (mdt) 4:30 pm (pdt
DESCRIPTION:Join Certified Sommelier and National Wine Educator Pamela Wood for a fun and educational virtual tasting\, Tuesday\, June 16th\, at 5:30 pm (mst) 4:30 pm (pst). Tasting and discussiing the Tuscan and Puglia regions\, grapes\, history\, food and upcoming travel. From Chianti’s\, Super Tuscan\, Brunello di Montalcino\, Primotivo\, Negroamaro there are many to choose from and enjoy.  Zoom virtual tasting details and tasting notes sent to you upon reservation. including great value in Utah and pairing recipes! 21 and up and only $25
URL:https://parkcitywineclub.com/events/tuesdays-tasting-italys-tuscany-puglia-regions-tuesday-june-16th-530-pm-mdt-430-pm-pdt/
CATEGORIES:Virtual Tastings
END:VEVENT
BEGIN:VEVENT
DTSTART;TZID=America/Denver:20200522T173000
DTEND;TZID=America/Denver:20200522T183000
DTSTAMP:20260419T182500
CREATED:20200514T004830Z
LAST-MODIFIED:20200514T004830Z
UID:540-1590168600-1590172200@parkcitywineclub.com
SUMMARY:Time for Bubbles ~beyond Champagne\, Friday\, May 22nd 5:30 (mdt) 4:30 (pdt)
DESCRIPTION:Join Certified Sommelier and National Wine Educator Pamela Wood for a fun and educational virtual tasting\, Friday\, May 22nd\, at 5:30 pm (mdt) 4:30 pm (pdt). Tasting and discussiing all the various bubbles – beyond Champagne. Order or go grab your favorite bubbly (Champagne\, Cava\, Sparkling\, Prosecco) and lets enjoy as we learn\, grapes\, history\, styles\, methods and food pairings . Zoom virtual tasting details and tasting notes sent to you upon reservation. including fun summer sippin sparkling cocktail recipies! 21 and up and only $25 Optional cheese pairing recomemdations will be sent should you like to pair for our event. \nDonation to local food banks from event proceeds
URL:https://parkcitywineclub.com/events/time-for-bubbles-beyond-champagne-friday-may-22nd-530-mdt-430-pdt/
CATEGORIES:Virtual Tastings
END:VEVENT
END:VCALENDAR