BEGIN:VCALENDAR
VERSION:2.0
PRODID:-//Park City Wine Club - ECPv6.15.20//NONSGML v1.0//EN
CALSCALE:GREGORIAN
METHOD:PUBLISH
X-WR-CALNAME:Park City Wine Club
X-ORIGINAL-URL:https://parkcitywineclub.com
X-WR-CALDESC:Events for Park City Wine Club
REFRESH-INTERVAL;VALUE=DURATION:PT1H
X-Robots-Tag:noindex
X-PUBLISHED-TTL:PT1H
BEGIN:VTIMEZONE
TZID:America/Denver
BEGIN:DAYLIGHT
TZOFFSETFROM:-0700
TZOFFSETTO:-0600
TZNAME:MDT
DTSTART:20190310T090000
END:DAYLIGHT
BEGIN:STANDARD
TZOFFSETFROM:-0600
TZOFFSETTO:-0700
TZNAME:MST
DTSTART:20191103T080000
END:STANDARD
BEGIN:DAYLIGHT
TZOFFSETFROM:-0700
TZOFFSETTO:-0600
TZNAME:MDT
DTSTART:20200308T090000
END:DAYLIGHT
BEGIN:STANDARD
TZOFFSETFROM:-0600
TZOFFSETTO:-0700
TZNAME:MST
DTSTART:20201101T080000
END:STANDARD
BEGIN:DAYLIGHT
TZOFFSETFROM:-0700
TZOFFSETTO:-0600
TZNAME:MDT
DTSTART:20210314T090000
END:DAYLIGHT
BEGIN:STANDARD
TZOFFSETFROM:-0600
TZOFFSETTO:-0700
TZNAME:MST
DTSTART:20211107T080000
END:STANDARD
END:VTIMEZONE
BEGIN:VEVENT
DTSTART;VALUE=DATE:20201231
DTEND;VALUE=DATE:20210101
DTSTAMP:20260420T001812
CREATED:20201210T195148Z
LAST-MODIFIED:20201210T195148Z
UID:912-1609372800-1609459199@parkcitywineclub.com
SUMMARY:CHEERS to a NEW YEAR!
DESCRIPTION:
URL:https://parkcitywineclub.com/events/cheers-to-a-new-year/
END:VEVENT
BEGIN:VEVENT
DTSTART;VALUE=DATE:20201224
DTEND;VALUE=DATE:20201227
DTSTAMP:20260420T001812
CREATED:20201210T195035Z
LAST-MODIFIED:20201210T195035Z
UID:908-1608768000-1609027199@parkcitywineclub.com
SUMMARY:HAPPY HOLIDAYS to You and Yours!
DESCRIPTION:
URL:https://parkcitywineclub.com/events/happy-holidays-to-you-and-yours/
END:VEVENT
BEGIN:VEVENT
DTSTART;TZID=America/Denver:20201208T180000
DTEND;TZID=America/Denver:20201208T200000
DTSTAMP:20260420T001812
CREATED:20201122T143509Z
LAST-MODIFIED:20201122T144647Z
UID:874-1607450400-1607457600@parkcitywineclub.com
SUMMARY:Paint Night in Park City - A Live Event
DESCRIPTION:Paint Night in Park City – A Live Event  \nJoin The Paint Mixer\, at The Spur Bar & Grill\, for winter painting that includes select wines and cheese with the Park City Wine Club. Food and Beverages: $5 margaritas and $3 tacos will also be available for Taco Tuesday. Our goal is to encourage everyone to try something new\, and create something special. All artistic abilities are encouraged to join in the creative adventure! Step-by-step instruction and all materials are provided. \nAll of this and the cost is only $40 per person – WINE IS INCLUDED – this event is at 50% off! Prize will be awarded for the best voted painting of the night!! \nCOVID guidelines will be observed\, social distancing practices are already in place\, 352 Main St.\, PC – Ages 21+ ONLY – Guests limited to 20 per event. Please complete the online reservation and check the boxes necessary – remember wine is included\, but you still have to check the alcohol box. Thank you
URL:https://parkcitywineclub.com/events/paint-night-in-park-city-a-live-event/
LOCATION:352 Main Street\, Park City\, UT\, 352 Main Street\, Park City\, UT\, 84060\, United States
END:VEVENT
BEGIN:VEVENT
DTSTART;TZID=America/Denver:20201204T173000
DTEND;TZID=America/Denver:20201204T190000
DTSTAMP:20260420T001812
CREATED:20201019T203657Z
LAST-MODIFIED:20201024T180945Z
UID:698-1607103000-1607108400@parkcitywineclub.com
SUMMARY:Holiday Tasting Kit & Virtual Event - Tis' the Seanson!
DESCRIPTION:Holiday Virtual Wine Kit Tasting Event\n\n\n\n\nQuarantine Relief Tasting Kit ~ Join me Friday evening 5:30pm for a virtual tasting gathering – Tis’ the Season!\nDecember 4th@ 5:30 pm as we’ll toast to the holidays with a Sparkling cocktail and discuss and taste from our Quarantine Relief Tasting Kit – Happy Holiday\, fun festive wines!
URL:https://parkcitywineclub.com/events/covid-releif-tasting-kit-tis-the-seanson-holiay-tasting/
END:VEVENT
BEGIN:VEVENT
DTSTART;TZID=America/Denver:20201106T173000
DTEND;TZID=America/Denver:20201106T190000
DTSTAMP:20260420T001812
CREATED:20201024T181214Z
LAST-MODIFIED:20201024T181214Z
UID:846-1604683800-1604689200@parkcitywineclub.com
SUMMARY:Post Election Relief Tasting Kit & Virtual Event
DESCRIPTION:Post Election Relief Tasting Kit ~ Join me Friday evening 5:30pm for a virtual tasting gathering \n Post Election Relief! November 6th@ 5:30 pm – No matter the outcome\, we all to relieve a little stress from all the election hype and our crazy covid world!
URL:https://parkcitywineclub.com/events/post-election-relief-tasting-kit-virtual-event/
END:VEVENT
BEGIN:VEVENT
DTSTART;TZID=America/Denver:20201028T180000
DTEND;TZID=America/Denver:20201028T200000
DTSTAMP:20260420T001812
CREATED:20200921T142748Z
LAST-MODIFIED:20200921T142748Z
UID:691-1603908000-1603915200@parkcitywineclub.com
SUMMARY:"Mask-uerade" A Live Event - Paint Night in Park City
DESCRIPTION:Wednesday\, October 28th\, Paint Mixer Studio\, Park City ~ Come out safely to piant and taste and have some fall fun! \nJoin us at The Paint Mixer\, Park City studio from 6 – 8 pm\, for fall painting and select wines and treats with the Park City Wine Club! Our goal is to encourage everyone to try something new\, and create something special! All artistic abilities are encouraged to join in the creative adventure! Step-by-step instruction and materials are provided. PC WIne Club will be pouring four wines and providing individual nibbles to enjoy throughout. \nAll of this and the cost is only $30 per person – WINE IS INCLUDED – this event is at 50% off!  Prize will be  awarded to the most creative Mask and a prize for the best voted painting of the night!!
URL:https://parkcitywineclub.com/events/mask-uerade-a-live-event-paint-night-in-park-city/
LOCATION:Paint Mixer\, 738 Main Street\, Park City\, UT\, 84060\, United States
END:VEVENT
BEGIN:VEVENT
DTSTART;TZID=America/Denver:20201016T173000
DTEND;TZID=America/Denver:20201016T190000
DTSTAMP:20260420T001812
CREATED:20200921T142257Z
LAST-MODIFIED:20200921T142257Z
UID:688-1602869400-1602874800@parkcitywineclub.com
SUMMARY:Quarantine Relif Tasting Kit - Tour of Italy
DESCRIPTION:“A Tour of Italy”- Oct. 16th\, 5:30pm Order your Quarantine Relief Tasting Kit now and enjoy; Four – 5oz mini bottles of select wines for tasting (2.5 oz pours per person) with three cheese selections\, meats\, nuts\, fruit and / or crackers\, and Tandem chocolates! Kit serves 2 people. Single kits for one person will be four bottles with 2.5 oz of each wine. Tasting notes and Zoom login instructions will be sent to all who order and this includes contactles FREE delivery* and a live Zoom tasting with Sommelier and National Wine Educator Pamela Wood
URL:https://parkcitywineclub.com/events/quarantine-relif-tasting-kit-tour-of-italy/
END:VEVENT
BEGIN:VEVENT
DTSTART;TZID=America/Denver:20200918T173000
DTEND;TZID=America/Denver:20200918T183000
DTSTAMP:20260420T001812
CREATED:20200821T203635Z
LAST-MODIFIED:20200821T203836Z
UID:653-1600450200-1600453800@parkcitywineclub.com
SUMMARY:Quarantine Relief Tasting Kit - Cabernet Flight of Four - September 18th\, 5:30 pm
DESCRIPTION:Time to take Flight “Cabernet Sauvignon” Order your Quarantine Relief Tasting Kit now and enjoy; Four – 5oz mini bottles of select wines for tasting (2 oz pours per person) with three cheese selections\, meats\, nuts\, fruit and / or crackers\, and Tandem chocolates! Kit serves 2 people\, also available for a single. A tasting/pairing guide will be sent to all who order and this includes contactles FREE delivery* and a live Zoom tasting with me on Friday\, September 18th at 5:30pm!\nStock is limited – Order today – parkcitywineclub.com\nMust be 21+ cost is $90 for a kit that is for two people ($45 each) Order by Tuesday\, Sept. 16th for FREE delivery on Thursday.\n*Free delivery in Summit & Wasatch counties – can arrange p/u location for SLC orders.
URL:https://parkcitywineclub.com/events/quarantine-relief-tasting-kit-cabernet-flight-of-four-sepatember-18th-530-pm/
CATEGORIES:Virtual Tastings
END:VEVENT
BEGIN:VEVENT
DTSTART;TZID=America/Denver:20200916T173000
DTEND;TZID=America/Denver:20200916T190000
DTSTAMP:20260420T001812
CREATED:20200904T024043Z
LAST-MODIFIED:20200904T024043Z
UID:662-1600277400-1600282800@parkcitywineclub.com
SUMMARY:Italy in Spring -Informative event and tasting for spring tour!
DESCRIPTION:Wednesday\, September 16th 5:30 pm – Rotary Park\, Park City ~ Come to taste wines of Italy and learn more about the PC Wine CLub Italy in Spring travel experience! \nThis is a complimentary event to learn more about this unique and intimate wine travel experience. International Culianry Tours\, Cindy Stephan along with me\, Pamela Wood will present our Itinerary\, answer questions and taste two wines a red and a white from the regions we’ll be visiting. \nDonations of $5 will be accepted for the drawing and additional wine tickets ~ One lucky person will receive a $100 discount off the trip! \nEvent is free but RSVP is needed for wine count and to keep within county health guidelines for social distancing.
URL:https://parkcitywineclub.com/events/italy-in-spring-informative-event-and-tasting-for-spring-tour/
LOCATION:Rotary Park\, Payday Dr\, Park City\, UT
END:VEVENT
BEGIN:VEVENT
DTSTART;TZID=America/Denver:20200821T173000
DTEND;TZID=America/Denver:20200821T183000
DTSTAMP:20260420T001812
CREATED:20200608T231756Z
LAST-MODIFIED:20200721T021044Z
UID:594-1598031000-1598034600@parkcitywineclub.com
SUMMARY:Quarantine Relief Tasting Virtual Event
DESCRIPTION:Join me Friday evening 5pm for a virtual tasting gathering!\nAugust 21st 5:30 pm as we’ll discuss and taste from our Quarantine Relief Tasting Kit! \n  \nPlease join me\, Pamela Wood\, Certified Wine Educator\, for Quarantine Relief  virtual and educational tasting. This 1 hour +\, Zoom Meeting/Tasting will discuss the wines\, cheeses\, meats\, nust crackers\, etc. included in your kit! \nKit for 2 includes: Four – 5oz bottles of selected wines (2 oz tastes per person)\, 3 cheeses\, meats\, nuts\, crackers &/or fruit \, chocolates and FREE delivery (in Wasatch & Summit county\, p/u location for SLC orders). \nCost is $80 (for a 2 person kit) Single kit available $40 – must be 21 + – Order your kit by Tues. Aug. 18th\, for a Thursday delivery! \nZoom app is required – Zoom login and passcose along with tasting notes will be sent to you prior to our event.  \n 
URL:https://parkcitywineclub.com/events/quarantine-relief-tasting-virtual-event-2/
END:VEVENT
BEGIN:VEVENT
DTSTART;TZID=America/Denver:20200820T183000
DTEND;TZID=America/Denver:20200820T200000
DTSTAMP:20260420T001812
CREATED:20200304T185149Z
LAST-MODIFIED:20200514T001814Z
UID:503-1597948200-1597953600@parkcitywineclub.com
SUMMARY:Table for Twelve
DESCRIPTION:“Table for Twelve” food and wine experience is on Thursday\, August 20th\, “Celebrate Summer”. At the Market\, 6:30 pm\, 1500 Snow Creek Plaza\, PC. Must be 21+\, Cost is $57\, limited to 12 persons so reserve today www.foxschoolofwine.com. See you at the table!\n\nLocation: The Market
URL:https://parkcitywineclub.com/events/table-for-twelve-3/
LOCATION:The Market at Park City\, 1500 Snow Creek Dr\, Park City\, Utah\, 84060
CATEGORIES:Table for Twelve
END:VEVENT
BEGIN:VEVENT
DTSTART;TZID=America/Denver:20200807T180000
DTEND;TZID=America/Denver:20200807T203000
DTSTAMP:20260420T001812
CREATED:20200721T021526Z
LAST-MODIFIED:20200721T021526Z
UID:628-1596823200-1596832200@parkcitywineclub.com
SUMMARY:"France's Finest" a luxurious pairing wine dinner at Blue Sky Ranch
DESCRIPTION:Small grower\, producer\, Gonet Family serves up Grand Cru Champagne and some of the finest Bordeaux at a luxurious experience on Friday\, August 7th\, 6 pm Blue Sky Ranch Arena. This intimate dinner is only open to 24 well spaced reservations.. Five wines\, including vintage and non vintage Grand Cru Champagne\, will be poured with four courses from Chef Galen\, served in a beautiful and unique setting. Cost is $145 for early reservations\, now through July 30th!! $160 July 31st . Book now. *\n*Cancellation policy applies for any reservation cancelled after August 4th – 50%.
URL:https://parkcitywineclub.com/events/frances-finest-a-luxurious-pairing-wine-dinner-at-blue-sky-ranch/
LOCATION:Blue Sky Ranch\, 2071 S State Road 32\, Wanship\, UT\, 84017\, United States
END:VEVENT
BEGIN:VEVENT
DTSTART;TZID=America/Denver:20200717T173000
DTEND;TZID=America/Denver:20200717T183000
DTSTAMP:20260420T001812
CREATED:20200629T021057Z
LAST-MODIFIED:20200629T021256Z
UID:612-1595007000-1595010600@parkcitywineclub.com
SUMMARY:Aloha Friday Tasting ~ Summer Whites\, July 17th 5:30 pm (mst) 4:30 pm (pst) 7:30 pm (est)
DESCRIPTION:Join Certified Sommelier and National Wine Educator Pamela Wood for a fun and educational virtual tasting\, Friday\, July 17th\, at 5:30 pm (mst) 4:30 pm (pst\, 7:30 (est). Tasting and discussiing a variety of white wines\, the regions\, grapes\, history\, & food. Rousanne\, Marssanne\, Viognier\, Chenin Blanc\, Gruener Veltiner\, Pinot Gris and more. There are many to choose from and enjoy\, A ‘Wine Suggestion’ list will be sent to you upon reservation Zoom virtual tasting details and tasting notes sent to you priot to our event. 21 and up and only $25
URL:https://parkcitywineclub.com/events/aloha-friday-tasting-summer-whites-july-17th-530-pm-mst-430-pm-pst-730-pm-est/
ATTACH;FMTTYPE=image/jpeg:https://parkcitywineclub.com/wp-content/uploads/2020/06/qtq80-KDkZ0l.jpeg
END:VEVENT
BEGIN:VEVENT
DTSTART;TZID=America/Denver:20200616T173000
DTEND;TZID=America/Denver:20200616T183000
DTSTAMP:20260420T001812
CREATED:20200525T012641Z
LAST-MODIFIED:20200601T193521Z
UID:584-1592328600-1592332200@parkcitywineclub.com
SUMMARY:Tuesday's Tasting - Italy's Tuscany & Puglia Regions\, Tuesday\, June 16th 5:30 pm (mdt) 4:30 pm (pdt
DESCRIPTION:Join Certified Sommelier and National Wine Educator Pamela Wood for a fun and educational virtual tasting\, Tuesday\, June 16th\, at 5:30 pm (mst) 4:30 pm (pst). Tasting and discussiing the Tuscan and Puglia regions\, grapes\, history\, food and upcoming travel. From Chianti’s\, Super Tuscan\, Brunello di Montalcino\, Primotivo\, Negroamaro there are many to choose from and enjoy.  Zoom virtual tasting details and tasting notes sent to you upon reservation. including great value in Utah and pairing recipes! 21 and up and only $25
URL:https://parkcitywineclub.com/events/tuesdays-tasting-italys-tuscany-puglia-regions-tuesday-june-16th-530-pm-mdt-430-pm-pdt/
CATEGORIES:Virtual Tastings
END:VEVENT
BEGIN:VEVENT
DTSTART;TZID=America/Denver:20200605T170000
DTEND;TZID=America/Denver:20200605T180000
DTSTAMP:20260420T001812
CREATED:20200514T010439Z
LAST-MODIFIED:20200514T010439Z
UID:535-1591376400-1591380000@parkcitywineclub.com
SUMMARY:Quarantine Relief Tasting Virtual Event
DESCRIPTION:Join me Friday evening 5pm for a virtual tasting gathering!\nJune 5th 5 pm as we’ll discuss and taste from our Quarantine Relief Tasting Kit! \n  \nPlease join me\, Pamela Wood\, Certified Wine Educator\, for Quarantine Relief  virtual and educational tasting. This 1 hour +\, Zoom Meeting/Tasting will discuss the wines\, cheeses\, meats\, nust crackers\, etc. included in your kit! \nKit for 2 includes: Four – 5oz bottles of selected wines (2 oz tastes per person)\, 3 cheeses\, meats\, nuts\, crackers &/or fruit \, chocolates and FREE delivery (in Wasatch & Summit county\, p/u location for SLC orders). \nCost is $80 (for a 2 person kit) Single kit available $40 – must be 21 + – Order your kit by Tues. June 2nd\, for a Thursady delivery! \nZoom app is required – Zoom login and passcose along with tasting notes will be sent to you prior to our event.  \n 
URL:https://parkcitywineclub.com/events/quarantine-relief-tasting-virtual-event/
END:VEVENT
BEGIN:VEVENT
DTSTART;TZID=America/Denver:20200522T173000
DTEND;TZID=America/Denver:20200522T183000
DTSTAMP:20260420T001812
CREATED:20200514T004830Z
LAST-MODIFIED:20200514T004830Z
UID:540-1590168600-1590172200@parkcitywineclub.com
SUMMARY:Time for Bubbles ~beyond Champagne\, Friday\, May 22nd 5:30 (mdt) 4:30 (pdt)
DESCRIPTION:Join Certified Sommelier and National Wine Educator Pamela Wood for a fun and educational virtual tasting\, Friday\, May 22nd\, at 5:30 pm (mdt) 4:30 pm (pdt). Tasting and discussiing all the various bubbles – beyond Champagne. Order or go grab your favorite bubbly (Champagne\, Cava\, Sparkling\, Prosecco) and lets enjoy as we learn\, grapes\, history\, styles\, methods and food pairings . Zoom virtual tasting details and tasting notes sent to you upon reservation. including fun summer sippin sparkling cocktail recipies! 21 and up and only $25 Optional cheese pairing recomemdations will be sent should you like to pair for our event. \nDonation to local food banks from event proceeds
URL:https://parkcitywineclub.com/events/time-for-bubbles-beyond-champagne-friday-may-22nd-530-mdt-430-pdt/
CATEGORIES:Virtual Tastings
END:VEVENT
BEGIN:VEVENT
DTSTART;TZID=America/Denver:20200327T180000
DTEND;TZID=America/Denver:20200327T190000
DTSTAMP:20260420T001812
CREATED:20200216T183923Z
LAST-MODIFIED:20200217T155805Z
UID:462-1585332000-1585335600@parkcitywineclub.com
SUMMARY:Weekend Wine Series
DESCRIPTION:Fox School of Wine – Fun & Educational Wine Tasting\n\nEvery Friday – Cost is $34 – must be 21\nLocation: Silver Baron Lodge Deer Valley Dr.\nReservations Required\nContact: www.foxschoolofwine.com
URL:https://parkcitywineclub.com/events/weekend-wine-series-7/
LOCATION:Silver Baron Lodge\, 2880 Deer Valley Dr\, Park City\, UT\, 84060\, United States
CATEGORIES:Weekend Wine Series
ATTACH;FMTTYPE=image/jpeg:https://parkcitywineclub.com/wp-content/uploads/2020/01/fsw-jpeg-logo_1.jpeg
END:VEVENT
BEGIN:VEVENT
DTSTART;TZID=America/Denver:20200322T180000
DTEND;TZID=America/Denver:20200322T210000
DTSTAMP:20260420T001812
CREATED:20200303T161307Z
LAST-MODIFIED:20200402T204625Z
UID:496-1584900000-1584910800@parkcitywineclub.com
SUMMARY:POSTPONED: Good Things are Worth Repeating - A Bubbly Evening at Courchevel Bistro
DESCRIPTION:*This event has been postponed until further notice.  Look for future email announcements.  Thank you and be well!* \nA Bubbly Evening at Courchevel Bistro in Park City with PC Wine Club and Vin 7000 \nGood things are worth repeating! Come delight your taste buds as we do a repeat performance with French Sparkling and Champagne from small grower producers and indulge in fresh French cuisine from Chef Clemant Gelas at Courchevel Bistro\, 201 Heber Ave.\, Park City. Four course tasting menu with 5 exquisite bubbles\, all new to Utah and from small producers in the Loire and Gran Cru small producers in Champagne! Cost is $95\, includes food\, wine\, tax & gratuity! \n  \nRSVP Required – RSVP Here. \n 
URL:https://parkcitywineclub.com/events/good-things-are-worth-repeating-a-bubbly-evening-at-courchevel-bistro/
LOCATION:Courchevel Bistro\, 201 Heber Ave.\, Park City\, UT\, 84060\, United States
CATEGORIES:Dinner Pairings
ATTACH;FMTTYPE=image/jpeg:https://parkcitywineclub.com/wp-content/uploads/2020/01/s713073068885900396_p58_i1_w1000.jpeg
END:VEVENT
BEGIN:VEVENT
DTSTART;TZID=America/Denver:20200320T180000
DTEND;TZID=America/Denver:20200320T190000
DTSTAMP:20260420T001812
CREATED:20200216T183851Z
LAST-MODIFIED:20200217T155708Z
UID:460-1584727200-1584730800@parkcitywineclub.com
SUMMARY:Weekend Wine Series
DESCRIPTION:Fox School of Wine – Fun & Educational Wine Tasting\n\nEvery Friday – Cost is $34 – must be 21\nLocation: Silver Baron Lodge Deer Valley Dr.\nReservations Required\nContact: www.foxschoolofwine.com
URL:https://parkcitywineclub.com/events/weekend-wine-series-6/
LOCATION:Silver Baron Lodge\, 2880 Deer Valley Dr\, Park City\, UT\, 84060\, United States
CATEGORIES:Weekend Wine Series
ATTACH;FMTTYPE=image/jpeg:https://parkcitywineclub.com/wp-content/uploads/2020/01/fsw-jpeg-logo_1.jpeg
END:VEVENT
BEGIN:VEVENT
DTSTART;TZID=America/Denver:20200319T183000
DTEND;TZID=America/Denver:20200319T200000
DTSTAMP:20260420T001812
CREATED:20200215T170803Z
LAST-MODIFIED:20200215T170803Z
UID:441-1584642600-1584648000@parkcitywineclub.com
SUMMARY:Table for Twelve
DESCRIPTION:“Table for Twelve” food and wine experience is on Thursday\,March 19th\, “Not Just Cheddar\, Irish Cheddar” Cheddar’s from the Emerald Isle and Wines to savor. At the Market\, 6:30 pm\, 1500 Snow Creek Plaza\, PC. Must be 21+\, Cost is $57\, limited to 12 persons so reserve today www.foxschoolofwine.com. See you at the table!\n\nLocation: The Market
URL:https://parkcitywineclub.com/events/table-for-twelve-2/
LOCATION:The Market at Park City\, 1500 Snow Creek Dr\, Park City\, Utah\, 84060
CATEGORIES:Table for Twelve
END:VEVENT
BEGIN:VEVENT
DTSTART;TZID=America/Denver:20200313T180000
DTEND;TZID=America/Denver:20200313T190000
DTSTAMP:20260420T001812
CREATED:20200216T183824Z
LAST-MODIFIED:20200217T155515Z
UID:458-1584122400-1584126000@parkcitywineclub.com
SUMMARY:Weekend Wine Series
DESCRIPTION:Fox School of Wine – Fun & Educational Wine Tasting\n\nEvery Friday – Cost is $34 – must be 21\nLocation: Silver Baron Lodge Deer Valley Dr.\nReservations Required\nContact: www.foxschoolofwine.com
URL:https://parkcitywineclub.com/events/weekend-wine-series-5/
LOCATION:Silver Baron Lodge\, 2880 Deer Valley Dr\, Park City\, UT\, 84060\, United States
CATEGORIES:Weekend Wine Series
ATTACH;FMTTYPE=image/jpeg:https://parkcitywineclub.com/wp-content/uploads/2020/01/fsw-jpeg-logo_1.jpeg
END:VEVENT
BEGIN:VEVENT
DTSTART;TZID=America/Denver:20200306T180000
DTEND;TZID=America/Denver:20200306T190000
DTSTAMP:20260420T001812
CREATED:20200216T183745Z
LAST-MODIFIED:20200217T155439Z
UID:456-1583517600-1583521200@parkcitywineclub.com
SUMMARY:Weekend Wine Series
DESCRIPTION:Fox School of Wine – Fun & Educational Wine Tasting\n\nEvery Friday – Cost is $34 – must be 21\nLocation: Silver Baron Lodge Deer Valley Dr.\nReservations Required\nContact: www.foxschoolofwine.com
URL:https://parkcitywineclub.com/events/weekend-wine-series-4/
LOCATION:Silver Baron Lodge\, 2880 Deer Valley Dr\, Park City\, UT\, 84060\, United States
CATEGORIES:Weekend Wine Series
ATTACH;FMTTYPE=image/jpeg:https://parkcitywineclub.com/wp-content/uploads/2020/01/fsw-jpeg-logo_1.jpeg
END:VEVENT
BEGIN:VEVENT
DTSTART;TZID=America/Denver:20200305T170000
DTEND;TZID=America/Denver:20200307T170000
DTSTAMP:20260420T001812
CREATED:20200215T165911Z
LAST-MODIFIED:20200215T170053Z
UID:438-1583427600-1583600400@parkcitywineclub.com
SUMMARY:Red\, White & Snow
DESCRIPTION:A weekend of Wine and food benefiting the National Ability Center!\n\nEnjoy an amazing weekend of wine\, meeting the winemakers\, enjoying vintner dinners and supporting the National Ability Center. The NAC provides for all abilities\, our vetrans\, our kids\, and our paraolympians!\n\n\n\nLocation: https://redwhiteandsnow.org/
URL:https://parkcitywineclub.com/events/red-white-and-snow-a-weekend-of-wine-and-food-benefiting-the-national-ability-center/
END:VEVENT
BEGIN:VEVENT
DTSTART;TZID=America/Denver:20200304T183000
DTEND;TZID=America/Denver:20200304T210000
DTSTAMP:20260420T001812
CREATED:20200215T165359Z
LAST-MODIFIED:20200226T030626Z
UID:434-1583346600-1583355600@parkcitywineclub.com
SUMMARY:Winemakers Dinner at Ruth's Chris
DESCRIPTION:Join me in welcoming Russian River Vineyards to the table\, pairing 4 full courses with 4 excellent RRV wines! We’ll begin with a sparkling aperitif then have a seated dinner learning about RRV bio-dynamic farming practices and award winning wines\, including ‘best of show’! This amazing wine dinner is a prelude to Red\, White and Snow\, all proceeds will benefit the National Ability Center! RSVP required\, must 21+\, Cost is $135 and includes tax & gratuity!\n\nRSVP Here\n\nFor more info\, contact: parkcitywineclub@gmail.com
URL:https://parkcitywineclub.com/events/winemakers-dinner-at-ruths-chris/
LOCATION:Ruth’s Chris\, 2001 Park Ave\, Park City\, Utah\, 84060
CATEGORIES:Dinner Pairings
ATTACH;FMTTYPE=image/jpeg:https://parkcitywineclub.com/wp-content/uploads/2020/02/s713073068885900396_p59_i1_w1200.jpeg
END:VEVENT
BEGIN:VEVENT
DTSTART;TZID=America/Denver:20200228T180000
DTEND;TZID=America/Denver:20200228T190000
DTSTAMP:20260420T001812
CREATED:20200215T164616Z
LAST-MODIFIED:20200217T155246Z
UID:432-1582912800-1582916400@parkcitywineclub.com
SUMMARY:Weekend Wine Series
DESCRIPTION:Fox School of Wine – Fun & Educational Wine Tasting\n\nEvery Friday – Cost is $34 – must be 21\nLocation: Silver Baron Lodge Deer Valley Dr.\nReservations Required\nContact: www.foxschoolofwine.com
URL:https://parkcitywineclub.com/events/weekend-wine-series-3/
LOCATION:Silver Baron Lodge\, 2880 Deer Valley Dr\, Park City\, UT\, 84060\, United States
CATEGORIES:Weekend Wine Series
ATTACH;FMTTYPE=image/jpeg:https://parkcitywineclub.com/wp-content/uploads/2020/01/fsw-jpeg-logo_1.jpeg
END:VEVENT
BEGIN:VEVENT
DTSTART;TZID=America/Denver:20200221T180000
DTEND;TZID=America/Denver:20200221T190000
DTSTAMP:20260420T001812
CREATED:20200215T164412Z
LAST-MODIFIED:20200217T155325Z
UID:430-1582308000-1582311600@parkcitywineclub.com
SUMMARY:Weekend Wine Series
DESCRIPTION:Fox School of Wine – Fun & Educational Wine Tasting\n\nEvery Friday – Cost is $34 – must be 21\nLocation: Silver Baron Lodge Deer Valley Dr.\nReservations Required\nContact: www.foxschoolofwine.com
URL:https://parkcitywineclub.com/events/weekend-wine-series-2/
LOCATION:Silver Baron Lodge\, 2880 Deer Valley Dr\, Park City\, UT\, 84060\, United States
CATEGORIES:Weekend Wine Series
ATTACH;FMTTYPE=image/jpeg:https://parkcitywineclub.com/wp-content/uploads/2020/01/fsw-jpeg-logo_1.jpeg
END:VEVENT
BEGIN:VEVENT
DTSTART;TZID=America/Denver:20200220T183000
DTEND;TZID=America/Denver:20200220T200000
DTSTAMP:20260420T001812
CREATED:20200211T223638Z
LAST-MODIFIED:20200215T170920Z
UID:369-1582223400-1582228800@parkcitywineclub.com
SUMMARY:Table for Twelve
DESCRIPTION:“Table for Twelve” Food and Wine Experience is on Thursday\, February 20 – “Hey Good Lookin”\, Pretty\, Floral & Truffle.\n\nAt the Market\, 6:30 pm\, 1500 Snow Creek Plaza\, PC.  Must be 21+\, Cost is $57\, limited to 12 persons so reserve today www.foxschoolofwine.com.\n\nSee you at the table!\n\nLocation: The Market
URL:https://parkcitywineclub.com/events/table-for-twelve/
LOCATION:The Market at Park City\, 1500 Snow Creek Dr\, Park City\, Utah\, 84060
CATEGORIES:Table for Twelve
END:VEVENT
BEGIN:VEVENT
DTSTART;TZID=America/Denver:20200214T180000
DTEND;TZID=America/Denver:20200214T190000
DTSTAMP:20260420T001812
CREATED:20200211T220854Z
LAST-MODIFIED:20200211T223004Z
UID:364-1581703200-1581706800@parkcitywineclub.com
SUMMARY:Weekend Wine Series
DESCRIPTION:Fox School of Wine – Fun & Educational Wine Tasting\n\nEvery Friday – Cost is $34 – must be 21\nLocation: Silver Baron Lodge Deer Valley Dr.\nReservations Required\nContact: www.foxschoolofwine.com
URL:https://parkcitywineclub.com/events/weekend-wine-series/
LOCATION:Silver Baron Lodge\, 2880 Deer Valley Dr\, Park City\, UT\, 84060\, United States
CATEGORIES:Weekend Wine Series
ATTACH;FMTTYPE=image/jpeg:https://parkcitywineclub.com/wp-content/uploads/2020/02/scaled_256.jpg
END:VEVENT
BEGIN:VEVENT
DTSTART;TZID=America/Denver:20200210T180000
DTEND;TZID=America/Denver:20200210T210000
DTSTAMP:20260420T001812
CREATED:20200131T083422Z
LAST-MODIFIED:20200204T190811Z
UID:233-1581357600-1581368400@parkcitywineclub.com
SUMMARY:A Bubbly Evening at Couchevel Bistro
DESCRIPTION:A Bubbly Evening at Couchevel Bistro in Park City with PC Wine Club and Vin 7000 \nCome delight your taste buds with French Sparkling and Champagne from small grower producers and indulge in fresh French cuisine from Chef Clemant Gelas at Courchevel Bistro\, in Park City. Four course tasting menu with 5 exquisite bubbles\, all new to Utah and from small producers in the Loire and Gran Cru small producers in Champagne! Cost is $95\, includes food\, wine\, tax & gratuity! \nRSVP required online @ parkcitywineclub.com \n 
URL:https://parkcitywineclub.com/events/a-bubbly-evening-at-couchevel-bistro-park-city-with-pc-wine-club-and-vin-7000/
LOCATION:Courchevel Bistro\, 201 Heber Ave.\, Park City\, UT\, 84060\, United States
CATEGORIES:Dinner Pairings
ATTACH;FMTTYPE=image/jpeg:https://parkcitywineclub.com/wp-content/uploads/2020/01/s713073068885900396_p58_i1_w1000.jpeg
END:VEVENT
END:VCALENDAR