BEGIN:VCALENDAR
VERSION:2.0
PRODID:-//Park City Wine Club - ECPv6.15.20//NONSGML v1.0//EN
CALSCALE:GREGORIAN
METHOD:PUBLISH
X-WR-CALNAME:Park City Wine Club
X-ORIGINAL-URL:https://parkcitywineclub.com
X-WR-CALDESC:Events for Park City Wine Club
REFRESH-INTERVAL;VALUE=DURATION:PT1H
X-Robots-Tag:noindex
X-PUBLISHED-TTL:PT1H
BEGIN:VTIMEZONE
TZID:America/Denver
BEGIN:DAYLIGHT
TZOFFSETFROM:-0700
TZOFFSETTO:-0600
TZNAME:MDT
DTSTART:20190310T090000
END:DAYLIGHT
BEGIN:STANDARD
TZOFFSETFROM:-0600
TZOFFSETTO:-0700
TZNAME:MST
DTSTART:20191103T080000
END:STANDARD
BEGIN:DAYLIGHT
TZOFFSETFROM:-0700
TZOFFSETTO:-0600
TZNAME:MDT
DTSTART:20200308T090000
END:DAYLIGHT
BEGIN:STANDARD
TZOFFSETFROM:-0600
TZOFFSETTO:-0700
TZNAME:MST
DTSTART:20201101T080000
END:STANDARD
BEGIN:DAYLIGHT
TZOFFSETFROM:-0700
TZOFFSETTO:-0600
TZNAME:MDT
DTSTART:20210314T090000
END:DAYLIGHT
BEGIN:STANDARD
TZOFFSETFROM:-0600
TZOFFSETTO:-0700
TZNAME:MST
DTSTART:20211107T080000
END:STANDARD
END:VTIMEZONE
BEGIN:VEVENT
DTSTART;TZID=America/Denver:20200305T170000
DTEND;TZID=America/Denver:20200307T170000
DTSTAMP:20260422T170105
CREATED:20200215T165911Z
LAST-MODIFIED:20200215T170053Z
UID:438-1583427600-1583600400@parkcitywineclub.com
SUMMARY:Red\, White & Snow
DESCRIPTION:A weekend of Wine and food benefiting the National Ability Center!\n\nEnjoy an amazing weekend of wine\, meeting the winemakers\, enjoying vintner dinners and supporting the National Ability Center. The NAC provides for all abilities\, our vetrans\, our kids\, and our paraolympians!\n\n\n\nLocation: https://redwhiteandsnow.org/
URL:https://parkcitywineclub.com/events/red-white-and-snow-a-weekend-of-wine-and-food-benefiting-the-national-ability-center/
END:VEVENT
BEGIN:VEVENT
DTSTART;TZID=America/Denver:20200304T183000
DTEND;TZID=America/Denver:20200304T210000
DTSTAMP:20260422T170105
CREATED:20200215T165359Z
LAST-MODIFIED:20200226T030626Z
UID:434-1583346600-1583355600@parkcitywineclub.com
SUMMARY:Winemakers Dinner at Ruth's Chris
DESCRIPTION:Join me in welcoming Russian River Vineyards to the table\, pairing 4 full courses with 4 excellent RRV wines! We’ll begin with a sparkling aperitif then have a seated dinner learning about RRV bio-dynamic farming practices and award winning wines\, including ‘best of show’! This amazing wine dinner is a prelude to Red\, White and Snow\, all proceeds will benefit the National Ability Center! RSVP required\, must 21+\, Cost is $135 and includes tax & gratuity!\n\nRSVP Here\n\nFor more info\, contact: parkcitywineclub@gmail.com
URL:https://parkcitywineclub.com/events/winemakers-dinner-at-ruths-chris/
LOCATION:Ruth’s Chris\, 2001 Park Ave\, Park City\, Utah\, 84060
CATEGORIES:Dinner Pairings
ATTACH;FMTTYPE=image/jpeg:https://parkcitywineclub.com/wp-content/uploads/2020/02/s713073068885900396_p59_i1_w1200.jpeg
END:VEVENT
BEGIN:VEVENT
DTSTART;TZID=America/Denver:20200228T180000
DTEND;TZID=America/Denver:20200228T190000
DTSTAMP:20260422T170105
CREATED:20200215T164616Z
LAST-MODIFIED:20200217T155246Z
UID:432-1582912800-1582916400@parkcitywineclub.com
SUMMARY:Weekend Wine Series
DESCRIPTION:Fox School of Wine – Fun & Educational Wine Tasting\n\nEvery Friday – Cost is $34 – must be 21\nLocation: Silver Baron Lodge Deer Valley Dr.\nReservations Required\nContact: www.foxschoolofwine.com
URL:https://parkcitywineclub.com/events/weekend-wine-series-3/
LOCATION:Silver Baron Lodge\, 2880 Deer Valley Dr\, Park City\, UT\, 84060\, United States
CATEGORIES:Weekend Wine Series
ATTACH;FMTTYPE=image/jpeg:https://parkcitywineclub.com/wp-content/uploads/2020/01/fsw-jpeg-logo_1.jpeg
END:VEVENT
BEGIN:VEVENT
DTSTART;TZID=America/Denver:20200221T180000
DTEND;TZID=America/Denver:20200221T190000
DTSTAMP:20260422T170105
CREATED:20200215T164412Z
LAST-MODIFIED:20200217T155325Z
UID:430-1582308000-1582311600@parkcitywineclub.com
SUMMARY:Weekend Wine Series
DESCRIPTION:Fox School of Wine – Fun & Educational Wine Tasting\n\nEvery Friday – Cost is $34 – must be 21\nLocation: Silver Baron Lodge Deer Valley Dr.\nReservations Required\nContact: www.foxschoolofwine.com
URL:https://parkcitywineclub.com/events/weekend-wine-series-2/
LOCATION:Silver Baron Lodge\, 2880 Deer Valley Dr\, Park City\, UT\, 84060\, United States
CATEGORIES:Weekend Wine Series
ATTACH;FMTTYPE=image/jpeg:https://parkcitywineclub.com/wp-content/uploads/2020/01/fsw-jpeg-logo_1.jpeg
END:VEVENT
BEGIN:VEVENT
DTSTART;TZID=America/Denver:20200220T183000
DTEND;TZID=America/Denver:20200220T200000
DTSTAMP:20260422T170105
CREATED:20200211T223638Z
LAST-MODIFIED:20200215T170920Z
UID:369-1582223400-1582228800@parkcitywineclub.com
SUMMARY:Table for Twelve
DESCRIPTION:“Table for Twelve” Food and Wine Experience is on Thursday\, February 20 – “Hey Good Lookin”\, Pretty\, Floral & Truffle.\n\nAt the Market\, 6:30 pm\, 1500 Snow Creek Plaza\, PC.  Must be 21+\, Cost is $57\, limited to 12 persons so reserve today www.foxschoolofwine.com.\n\nSee you at the table!\n\nLocation: The Market
URL:https://parkcitywineclub.com/events/table-for-twelve/
LOCATION:The Market at Park City\, 1500 Snow Creek Dr\, Park City\, Utah\, 84060
CATEGORIES:Table for Twelve
END:VEVENT
BEGIN:VEVENT
DTSTART;TZID=America/Denver:20200214T180000
DTEND;TZID=America/Denver:20200214T190000
DTSTAMP:20260422T170105
CREATED:20200211T220854Z
LAST-MODIFIED:20200211T223004Z
UID:364-1581703200-1581706800@parkcitywineclub.com
SUMMARY:Weekend Wine Series
DESCRIPTION:Fox School of Wine – Fun & Educational Wine Tasting\n\nEvery Friday – Cost is $34 – must be 21\nLocation: Silver Baron Lodge Deer Valley Dr.\nReservations Required\nContact: www.foxschoolofwine.com
URL:https://parkcitywineclub.com/events/weekend-wine-series/
LOCATION:Silver Baron Lodge\, 2880 Deer Valley Dr\, Park City\, UT\, 84060\, United States
CATEGORIES:Weekend Wine Series
ATTACH;FMTTYPE=image/jpeg:https://parkcitywineclub.com/wp-content/uploads/2020/02/scaled_256.jpg
END:VEVENT
BEGIN:VEVENT
DTSTART;TZID=America/Denver:20200210T180000
DTEND;TZID=America/Denver:20200210T210000
DTSTAMP:20260422T170105
CREATED:20200131T083422Z
LAST-MODIFIED:20200204T190811Z
UID:233-1581357600-1581368400@parkcitywineclub.com
SUMMARY:A Bubbly Evening at Couchevel Bistro
DESCRIPTION:A Bubbly Evening at Couchevel Bistro in Park City with PC Wine Club and Vin 7000 \nCome delight your taste buds with French Sparkling and Champagne from small grower producers and indulge in fresh French cuisine from Chef Clemant Gelas at Courchevel Bistro\, in Park City. Four course tasting menu with 5 exquisite bubbles\, all new to Utah and from small producers in the Loire and Gran Cru small producers in Champagne! Cost is $95\, includes food\, wine\, tax & gratuity! \nRSVP required online @ parkcitywineclub.com \n 
URL:https://parkcitywineclub.com/events/a-bubbly-evening-at-couchevel-bistro-park-city-with-pc-wine-club-and-vin-7000/
LOCATION:Courchevel Bistro\, 201 Heber Ave.\, Park City\, UT\, 84060\, United States
CATEGORIES:Dinner Pairings
ATTACH;FMTTYPE=image/jpeg:https://parkcitywineclub.com/wp-content/uploads/2020/01/s713073068885900396_p58_i1_w1000.jpeg
END:VEVENT
END:VCALENDAR