BEGIN:VCALENDAR
VERSION:2.0
PRODID:-//Park City Wine Club - ECPv6.15.20//NONSGML v1.0//EN
CALSCALE:GREGORIAN
METHOD:PUBLISH
X-WR-CALNAME:Park City Wine Club
X-ORIGINAL-URL:https://parkcitywineclub.com
X-WR-CALDESC:Events for Park City Wine Club
REFRESH-INTERVAL;VALUE=DURATION:PT1H
X-Robots-Tag:noindex
X-PUBLISHED-TTL:PT1H
BEGIN:VTIMEZONE
TZID:America/Denver
BEGIN:DAYLIGHT
TZOFFSETFROM:-0700
TZOFFSETTO:-0600
TZNAME:MDT
DTSTART:20200308T090000
END:DAYLIGHT
BEGIN:STANDARD
TZOFFSETFROM:-0600
TZOFFSETTO:-0700
TZNAME:MST
DTSTART:20201101T080000
END:STANDARD
BEGIN:DAYLIGHT
TZOFFSETFROM:-0700
TZOFFSETTO:-0600
TZNAME:MDT
DTSTART:20210314T090000
END:DAYLIGHT
BEGIN:STANDARD
TZOFFSETFROM:-0600
TZOFFSETTO:-0700
TZNAME:MST
DTSTART:20211107T080000
END:STANDARD
BEGIN:DAYLIGHT
TZOFFSETFROM:-0700
TZOFFSETTO:-0600
TZNAME:MDT
DTSTART:20220313T090000
END:DAYLIGHT
BEGIN:STANDARD
TZOFFSETFROM:-0600
TZOFFSETTO:-0700
TZNAME:MST
DTSTART:20221106T080000
END:STANDARD
BEGIN:DAYLIGHT
TZOFFSETFROM:-0700
TZOFFSETTO:-0600
TZNAME:MDT
DTSTART:20230312T090000
END:DAYLIGHT
BEGIN:STANDARD
TZOFFSETFROM:-0600
TZOFFSETTO:-0700
TZNAME:MST
DTSTART:20231105T080000
END:STANDARD
END:VTIMEZONE
BEGIN:VEVENT
DTSTART;VALUE=DATE:20220902
DTEND;VALUE=DATE:20220905
DTSTAMP:20260420T021027
CREATED:20220724T200706Z
LAST-MODIFIED:20220724T200706Z
UID:1273-1662076800-1662335999@parkcitywineclub.com
SUMMARY:Utah Wine Festival 2022 Cedar City\, Utah September 2-4\, 2022
DESCRIPTION:The Utah Wine Festival is Utah’s premier event for wine and culinary experiences. Now\, in its fourth year\, the festival showcases only Utah wineries from around the state as well as the culinary creations of some of Utah’s best chefs; Experiences not available anywhere else. We hope you will come spend the weekend with us! We are confident you will have a great time and finish the Festival with a better understanding and appreciation of Utah Wines and local cuisine. Tickets Are On Sale Now! Visit Utahwinefest.com for details\, dinners\, events\, wine competition\, etc.
URL:https://parkcitywineclub.com/events/utah-wine-festival-2022-cedar-city-utah-september-2-4-2022/
LOCATION:UT
CATEGORIES:Wine Happenings in Utah
END:VEVENT
BEGIN:VEVENT
DTSTART;TZID=America/Denver:20220817T183000
DTEND;TZID=America/Denver:20220817T200000
DTSTAMP:20260420T021027
CREATED:20220702T081630Z
LAST-MODIFIED:20220724T192011Z
UID:1250-1660761000-1660766400@parkcitywineclub.com
SUMMARY:Table for Twelve @ PC Creamery - Ideas for Outdoor Entertaining  - August 17th\, 6:30 pm
DESCRIPTION:Summer Table for Twelve is open for reservations.\nAn intimate class focused on the connection of locally-crafted cheeses and world-sourced wines. You’ll taste four wines paired to four or five tastes of interesting foods. A deep dive and a small group setting set the stage to find pairings to share with your friends.\nLimited to 12 person\, must 21+ – cost is $70 (or for a choice class $85) Reservations required. Table for Twelve\, 6:30 pm
URL:https://parkcitywineclub.com/events/table-for-twelve-pc-creamery-ideas-for-outdoor-entertaining-august-18th-630-pm/
LOCATION:UT
CATEGORIES:Table for Twelve
END:VEVENT
BEGIN:VEVENT
DTSTART;TZID=America/Denver:20220816T170000
DTEND;TZID=America/Denver:20220816T200000
DTSTAMP:20260420T021027
CREATED:20220724T192316Z
LAST-MODIFIED:20220724T192316Z
UID:1263-1660669200-1660680000@parkcitywineclub.com
SUMMARY:PC Wine Club's 10th Anniversary Celebration ~ Tuesday\, August 16th\, Rotary Park\, Park City 5-8 pm
DESCRIPTION:Park City Wine Club is celebrating 10 years! Please join us Tuesday\, August 16th between 5 -8 pm at Rotary Park (end of Payday Dr.) to celebrate this milestone and enjoy several various wines\, catered BBQ\, adult fruit salad\, charcuterie\, chocolates and more . . .\nMust be 21+\, Cost is $50 inclusive
URL:https://parkcitywineclub.com/events/pc-wine-clubs-10th-anniversary-celebration-tuesday-august-16th-rotary-park-park-city-5-8-pm/
LOCATION:Rotary Park\, Payday Dr\, Park City\, UT
END:VEVENT
BEGIN:VEVENT
DTSTART;TZID=America/Denver:20220721T183000
DTEND;TZID=America/Denver:20220721T200000
DTSTAMP:20260420T021027
CREATED:20220702T081336Z
LAST-MODIFIED:20220702T081336Z
UID:1251-1658428200-1658433600@parkcitywineclub.com
SUMMARY:Table for Twelve @ PC Creamery - Cool Flavors for Hot Days - July 21st\, 6:30 pm
DESCRIPTION:Summer Table for Twelve is open for reservations.\nAn intimate class focused on the connection of locally-crafted cheeses and world-sourced wines. You’ll taste four wines paired to four or five tastes of interesting foods. A deep dive and a small group setting set the stage to find pairings to share with your friends.\nLimited to 12 person\, must 21+ – cost is $70 (or for a choice class $85) Reservations required. Table for Twelve\, 6:30 pm
URL:https://parkcitywineclub.com/events/table-for-twelve-pc-creamery-cool-flavors-for-hot-days-july-21st-630-pm/
LOCATION:UT
CATEGORIES:Table for Twelve
END:VEVENT
BEGIN:VEVENT
DTSTART;TZID=America/Denver:20220717T170000
DTEND;TZID=America/Denver:20220717T190000
DTSTAMP:20260420T021027
CREATED:20220702T080914Z
LAST-MODIFIED:20220712T180400Z
UID:1248-1658077200-1658084400@parkcitywineclub.com
SUMMARY:Sunday Sippin' - Wine & Chocolate Pairing w/ Tandem Chocolates\, Sunday\, July 17th\, 5 pm
DESCRIPTION:POSTPONED – Come learn\, taste and enjoy the art of pairing select wines with the exquisite chocolates from Phyllis Robinson\, Chocolatier\, Tandem Chocolates. Plus get some hands on chocolate truffle making of your own to take home. So happy to have Phyllis back in Park City! \nLight snacks to enjoy in addition to our variety of chocolates. 21+ Cost is $60
URL:https://parkcitywineclub.com/events/sunday-sippin-wine-chocolate-pairing-w-tandem-chocolates-sunday-july-17th-5-pm/
LOCATION:UT
CATEGORIES:PCWC Live Tasting Event
END:VEVENT
BEGIN:VEVENT
DTSTART;TZID=America/Denver:20220616T183000
DTEND;TZID=America/Denver:20220616T210000
DTSTAMP:20260420T021027
CREATED:20220426T002755Z
LAST-MODIFIED:20220426T002755Z
UID:1226-1655404200-1655413200@parkcitywineclub.com
SUMMARY:Winemakers Dinner at Courchevel Bistro with Leo Hansen & PC Wine Club\, June 16\, 6:30 pm
DESCRIPTION:PC Wine Club\, summer wine dinner at Courchevel Bistro with Leo Hansen of Leo Steen Wines\, small batch\, singular vineyard production. Come enjoy these exceptional wines paired with four amazing courses from the Chef at Courchevel! Space is limited – Cost $175 includes tax and gratuity. Reservations required\nCourchevel Bistro 201 Heber Ave.\, Park City
URL:https://parkcitywineclub.com/events/winemakers-dinner-at-courchevel-bistro-with-leo-hansen-pc-wine-club-june-16-630-pm/
LOCATION:UT
END:VEVENT
BEGIN:VEVENT
DTSTART;TZID=America/Denver:20220615T183000
DTEND;TZID=America/Denver:20220615T200000
DTSTAMP:20260420T021027
CREATED:20220426T002519Z
LAST-MODIFIED:20220426T002519Z
UID:1224-1655317800-1655323200@parkcitywineclub.com
SUMMARY:Table for Twelve @ PC Creamery - Tastes of Summer - June 15th\, 6:30 pm
DESCRIPTION:
URL:https://parkcitywineclub.com/events/table-for-twelve-pc-creamery-tastes-of-summer-june-15th-630-pm/
LOCATION:UT
END:VEVENT
BEGIN:VEVENT
DTSTART;VALUE=DATE:20220529
DTEND;VALUE=DATE:20220530
DTSTAMP:20260420T021027
CREATED:20220404T194235Z
LAST-MODIFIED:20220404T194235Z
UID:1211-1653782400-1653868799@parkcitywineclub.com
SUMMARY:Taking the shoulder season off - No May Events - stay tuned for June!
DESCRIPTION:
URL:https://parkcitywineclub.com/events/taking-the-shoulder-season-off-no-may-events-stay-tuned-for-june-5/
LOCATION:UT
END:VEVENT
BEGIN:VEVENT
DTSTART;VALUE=DATE:20220522
DTEND;VALUE=DATE:20220523
DTSTAMP:20260420T021027
CREATED:20220404T194150Z
LAST-MODIFIED:20220404T194150Z
UID:1210-1653177600-1653263999@parkcitywineclub.com
SUMMARY:Taking the shoulder season off - No May Events - stay tuned for June!
DESCRIPTION:
URL:https://parkcitywineclub.com/events/taking-the-shoulder-season-off-no-may-events-stay-tuned-for-june-4/
LOCATION:UT
END:VEVENT
BEGIN:VEVENT
DTSTART;VALUE=DATE:20220515
DTEND;VALUE=DATE:20220516
DTSTAMP:20260420T021027
CREATED:20220404T194101Z
LAST-MODIFIED:20220404T194101Z
UID:1209-1652572800-1652659199@parkcitywineclub.com
SUMMARY:Taking the shoulder season off - No May Events - stay tuned for June!
DESCRIPTION:
URL:https://parkcitywineclub.com/events/taking-the-shoulder-season-off-no-may-events-stay-tuned-for-june-3/
LOCATION:UT
END:VEVENT
BEGIN:VEVENT
DTSTART;VALUE=DATE:20220508
DTEND;VALUE=DATE:20220509
DTSTAMP:20260420T021027
CREATED:20220404T194019Z
LAST-MODIFIED:20220404T194019Z
UID:1208-1651968000-1652054399@parkcitywineclub.com
SUMMARY:Taking the shoulder season off - No May Events - stay tuned for June!
DESCRIPTION:
URL:https://parkcitywineclub.com/events/taking-the-shoulder-season-off-no-may-events-stay-tuned-for-june-2/
LOCATION:UT
END:VEVENT
BEGIN:VEVENT
DTSTART;VALUE=DATE:20220501
DTEND;VALUE=DATE:20220502
DTSTAMP:20260420T021027
CREATED:20220404T193708Z
LAST-MODIFIED:20220404T193844Z
UID:1206-1651363200-1651449599@parkcitywineclub.com
SUMMARY:Taking the shoulder season off - No May Events - stay tuned for June!
DESCRIPTION:
URL:https://parkcitywineclub.com/events/taking-the-shoulder-season-off-no-may-events-stay-tuned-for-june/
LOCATION:UT
END:VEVENT
BEGIN:VEVENT
DTSTART;TZID=America/Denver:20220422T173000
DTEND;TZID=America/Denver:20220422T190000
DTSTAMP:20260420T021027
CREATED:20220404T193518Z
LAST-MODIFIED:20220404T193518Z
UID:1203-1650648600-1650654000@parkcitywineclub.com
SUMMARY:Celebrate Earth Day w/ PC Wine Club- Tasting Organic Wines\, April 22nd\, Rotary Park\, 5:30-7 pm
DESCRIPTION:Taste\, learn and explore organic wines and what it means in the vineyard to be certified organic! Also learn some mindful tips for our part making small\, but impactful steps for a better planet. Taste 5 quality organic wines that are available in Utah and enjoy some nibbles while we learn and celebrate Mother Earth! Reservations are required\, must be 21+\, cost is $45 per person Rotary Park\, end of Pay Day Dr.\, Park City\, Friday April 22nd\, 5:30 – 7:00 pm – you can drop in anytime for this tasting experience. In the event of weather we will under the cover of the pavilion.
URL:https://parkcitywineclub.com/events/celebrate-earth-day-w-pc-wine-club-tasting-organic-wines-april-22nd-rotary-park-530-7-pm/
LOCATION:UT
END:VEVENT
BEGIN:VEVENT
DTSTART;TZID=America/Denver:20220414T180000
DTEND;TZID=America/Denver:20220414T193000
DTSTAMP:20260420T021027
CREATED:20220404T190854Z
LAST-MODIFIED:20220404T190854Z
UID:1192-1649959200-1649964600@parkcitywineclub.com
SUMMARY:Table for Twelve at PC Creamery
DESCRIPTION:“Easter Delights” – Wines and Cheese to inspire ideas for your Easter table\, with both brunch and dinner suggestions! \nThis is only open to 12 people\, held at PC Creamery\, 1200 W Lori Ln # A-3 – just off 248 as your headed toward Hideout/Kamas 6pm – Reservations required\, Cost is $73
URL:https://parkcitywineclub.com/events/table-for-twelve-at-pc-creamery-5/
LOCATION:UT
END:VEVENT
BEGIN:VEVENT
DTSTART;TZID=America/Denver:20220330T183000
DTEND;TZID=America/Denver:20220330T213000
DTSTAMP:20260420T021027
CREATED:20220404T190246Z
LAST-MODIFIED:20220404T190246Z
UID:1188-1648665000-1648675800@parkcitywineclub.com
SUMMARY:Gonet family Wine Dinner at Courchevel Bistro\, PC
DESCRIPTION:
URL:https://parkcitywineclub.com/events/gonet-family-wine-dinner-at-courchevel-bistro-pc/
LOCATION:UT
END:VEVENT
BEGIN:VEVENT
DTSTART;TZID=America/Denver:20220326T180000
DTEND;TZID=America/Denver:20220326T190000
DTSTAMP:20260420T021027
CREATED:20211219T191326Z
LAST-MODIFIED:20211219T191326Z
UID:1127-1648317600-1648321200@parkcitywineclub.com
SUMMARY:Virtual Tasting Kit ~ Heading Into Spring Wines and Cheeses
DESCRIPTION:Four – mini bottles of select wines for tasting (2 oz pours per person) with three paired cheese selections\, meats\, nuts or fruit\, crackers\, and Tandem chocolates! \nA double kit serves 2 people\, kit also available for a single. \nA tasting/pairing guide will be sent to all who order and this includes FREE delivery* and a live Zoom tasting with me on Friday\, January 21st at 6pm! Kits are limited . \nOrder today – Must be 21+ cost is $90 for a double kit that is for two people and $45 for a single kit. \nOrder by Tuesday\, January 18th for FREE delivery Friday morning. *Free delivery in Park City / Deer Valley / Kimball / Jeremy / Pinebrook – for SLC orders I usually coordinate a pick up location – like Costco or Smiths.
URL:https://parkcitywineclub.com/events/virtual-tasting-kit-heading-into-spring-wines-and-cheeses/
LOCATION:UT
END:VEVENT
BEGIN:VEVENT
DTSTART;TZID=America/Denver:20220326T180000
DTEND;TZID=America/Denver:20220326T190000
DTSTAMP:20260420T021027
CREATED:20211219T191223Z
LAST-MODIFIED:20220211T165950Z
UID:1126-1648317600-1648321200@parkcitywineclub.com
SUMMARY:Virtual Tasting Kit ~ Russian River Valley
DESCRIPTION:Four – mini bottles of select wines for tasting (2 oz pours per person) with three paired cheese selections\, meats\, nuts or fruit\, crackers\, and Tandem chocolates! \nA double kit serves 2 people\, kit also available for a single. \nA tasting/pairing guide will be sent to all who order and this includes FREE delivery* and a live Zoom tasting with me on Saturday\, March 26th at 6pm! Kits are limited . \nOrder today – Must be 21+ cost is $90 for a double kit that is for two people and $45 for a single kit. \nOrder by Wednesday\, March 23rd  for FREE delivery Friday. *Free delivery in Park City / Deer Valley / Kimball / Jeremy / Pinebrook – for SLC orders I usually coordinate a pick up location – like Costco or Smiths.
URL:https://parkcitywineclub.com/events/virtual-tasting-kit-russian-river-valley/
LOCATION:UT
END:VEVENT
BEGIN:VEVENT
DTSTART;TZID=America/Denver:20220324T180000
DTEND;TZID=America/Denver:20220324T193000
DTSTAMP:20260420T021027
CREATED:20220404T190534Z
LAST-MODIFIED:20220404T190534Z
UID:1191-1648144800-1648150200@parkcitywineclub.com
SUMMARY:Table for Twelve at PC Creamery
DESCRIPTION:“Softer Side of Spring” – Sample a delightful mix of cheeses and wines bringing out the Softer Side of Spring!  This is only open to 12 people\, held at PC Creamery\, 1200 W Lori Ln # A-3 – just off 248 as your headed toward Hideout/Kamas 6pm – Reservations required\, Cost is $73
URL:https://parkcitywineclub.com/events/table-for-twelve-at-pc-creamery-4/
LOCATION:UT
END:VEVENT
BEGIN:VEVENT
DTSTART;VALUE=DATE:20220303
DTEND;VALUE=DATE:20220306
DTSTAMP:20260420T021027
CREATED:20211219T190902Z
LAST-MODIFIED:20211219T190902Z
UID:1123-1646265600-1646524799@parkcitywineclub.com
SUMMARY:Red\, White and Snow ~ A weekend of culinary and wine events benefiting the NAC
DESCRIPTION:Red\, White & Snow is a weekend-long premier wine\, culinary and ski event held in Park City\, Utah to benefit the National Ability Center. This event assembles the finest chefs and wine makers together to celebrate the best in culinary delights and fine wines. March 3-5\, 2022 \nVisit website for schedule of events and related costs www.redwhiteandsnow.org
URL:https://parkcitywineclub.com/events/red-white-and-snow-a-weekend-of-culinary-and-wine-events-benefiting-the-nac/
LOCATION:UT
END:VEVENT
BEGIN:VEVENT
DTSTART;TZID=America/Denver:20220217T183000
DTEND;TZID=America/Denver:20220217T203000
DTSTAMP:20260420T021027
CREATED:20211219T190010Z
LAST-MODIFIED:20220211T170157Z
UID:1118-1645122600-1645129800@parkcitywineclub.com
SUMMARY:Annual Wine Exchange 2022 ~ Thursday\, February 17th 6:30 pm
DESCRIPTION:Celebrate the New Year with a PC Wine Club tradition. PCWC’s Annual “Wine Exchange” This has become a tradition for 10 years ~ a great way to relax\, enjoy\, eat\, drink and have fun after the hustle and bustle of the holidays! \nThursday\, February 17th –  6:30 pm at Jeremy Ranch Country Club\, Park City. This will be a ‘chili’ evening as we enjoy pairing 3 wines to go with warm bowls of different chili and supporting accouterments. The main attraction of the night is the “Wine Exchange”! Guests bring a completely wrapped / decorated bottle of wine ranging from $15-$30 for the exchange. \nPrizes are awarded for the best dressed bottle! So sign up and let’s enjoy some New Year’s fun of our own. Cost is only $55 including tax and gratuity. Full details of wine exchange will be sent upon reservation.
URL:https://parkcitywineclub.com/events/annual-wine-exchange-2022-a-new-year-tradition-thursday-january-6th-630-pm/
LOCATION:UT
CATEGORIES:PCWC Live Tasting Event
END:VEVENT
BEGIN:VEVENT
DTSTART;TZID=America/Denver:20220210T180000
DTEND;TZID=America/Denver:20220210T193000
DTSTAMP:20260420T021027
CREATED:20211219T192912Z
LAST-MODIFIED:20220109T211940Z
UID:1137-1644516000-1644521400@parkcitywineclub.com
SUMMARY:Table for Twelve at PC Creamery
DESCRIPTION:“Fondue Dinner and Wine” – See how traditional French fondue is made and then take your seat at the table to enjoy with bread\, apples\, broccoli and more paired with selected wines.t. This is only open to 12 people\, held at PC Creamery\, 1200 W Lori Ln # A-3 – just off 248 as your headed toward Hideout/Kamas 6pm – Reservations required\, Cost is $85
URL:https://parkcitywineclub.com/events/table-for-twelve-at-pc-creamery-3/
LOCATION:UT
END:VEVENT
BEGIN:VEVENT
DTSTART;TZID=America/Denver:20220121T180000
DTEND;TZID=America/Denver:20220121T190000
DTSTAMP:20260420T021027
CREATED:20211219T190346Z
LAST-MODIFIED:20211219T190346Z
UID:1120-1642788000-1642791600@parkcitywineclub.com
SUMMARY:Virtual Tasting Kit ~ Enjoy Winter Wines
DESCRIPTION:Four – mini bottles of select wines for tasting (2 oz pours per person) with three paired cheese selections\, meats\, nuts or fruit\, crackers\, and Tandem chocolates! \nA double kit serves 2 people\, kit also available for a single. \nA tasting/pairing guide will be sent to all who order and this includes FREE delivery* and a live Zoom tasting with me on Friday\, January 21st at 6pm! Kits are limited . \nOrder today – Must be 21+ cost is $90 for a double kit that is for two people and $45 for a single kit. \nOrder by Tuesday\, January 18th for FREE delivery Friday morning. *Free delivery in Park City / Deer Valley / Kimball / Jeremy / Pinebrook – for SLC orders I usually coordinate a pick up location – like Costco or Smiths.
URL:https://parkcitywineclub.com/events/virtual-tasting-kit-enjoy-winter-wines/
LOCATION:UT
END:VEVENT
BEGIN:VEVENT
DTSTART;TZID=America/Denver:20220120T180000
DTEND;TZID=America/Denver:20220120T193000
DTSTAMP:20260420T021027
CREATED:20211219T192806Z
LAST-MODIFIED:20220109T211835Z
UID:1136-1642701600-1642707000@parkcitywineclub.com
SUMMARY:Table for Twelve at PC Creamery
DESCRIPTION:POSTPONED to FEB. 10th – “Fondue Dinner and Wine” – See how traditional French fondue is made and then take your seat at the table to enjoy with bread\, apples\, broccoli and more paired with selected wines.t. This is only open to 12 people\, held at PC Creamery\, 1200 W Lori Ln # A-3 – just off 248 as your headed toward Hideout/Kamas 6pm – Reservations required\, Cost is $85
URL:https://parkcitywineclub.com/events/table-for-twelve-at-pc-creamery-2/
LOCATION:UT
END:VEVENT
BEGIN:VEVENT
DTSTART;TZID=America/Denver:20211216T180000
DTEND;TZID=America/Denver:20211216T193000
DTSTAMP:20260420T021027
CREATED:20211219T192455Z
LAST-MODIFIED:20211219T192512Z
UID:1134-1639677600-1639683000@parkcitywineclub.com
SUMMARY:Table for Twelve at PC Creamery
DESCRIPTION:“Winter Wines & Warm Cheeses” – Holiday ideas for unique cheeses and the wines to pair\, plus a wintery treat. This is only open to 12 people\, held at PC Creamery\, 1200 W Lori Ln # A-3 – just off 248 as your headed toward Hideout/Kamas 6pm – Reservations required\, Cost is $73
URL:https://parkcitywineclub.com/events/table-for-twelve-at-pc-creamery/
LOCATION:UT
END:VEVENT
BEGIN:VEVENT
DTSTART;TZID=America/Denver:20211209T180000
DTEND;TZID=America/Denver:20211209T210000
DTSTAMP:20260420T021027
CREATED:20211219T192037Z
LAST-MODIFIED:20211219T192037Z
UID:1132-1639072800-1639083600@parkcitywineclub.com
SUMMARY:Holiday Winemakers Dinner\, December 9th ~ Courchevel Bistro\, PC with Buoncristiani Family Wines\, Napa Valley!
DESCRIPTION:Join me\, Chef Clement and Matt Buoncristiani for a wonderful evening of food and wine. Thursday\, December 9\, 6 pm. \nCourchevel Bistro\, Park City Four elegant courses paired with the exceptional Buoncristiani Family wines. Cost is $145 per person
URL:https://parkcitywineclub.com/events/holiday-winemakers-dinner-december-9th-courchevel-bistro-pc-with-buoncristiani-family-wines-napa-valley/
LOCATION:UT
END:VEVENT
BEGIN:VEVENT
DTSTART;VALUE=DATE:20210913
DTEND;VALUE=DATE:20210924
DTSTAMP:20260420T021027
CREATED:20201210T195527Z
LAST-MODIFIED:20201210T195537Z
UID:916-1631491200-1632441599@parkcitywineclub.com
SUMMARY:Fall in Southern Italy with PC Wine Club
DESCRIPTION:Enjoy the flavors of fall in Southern Italy with PC Wine Club. This intimate and unique experience is only open to 10 persons. \nTasting\, touring\, castles\, vineyards\, cooking\, culture and camaraderie.
URL:https://parkcitywineclub.com/events/fall-in-southern-italy-with-pc-wine-club/
LOCATION:UT
END:VEVENT
BEGIN:VEVENT
DTSTART;VALUE=DATE:20210827
DTEND;VALUE=DATE:20210831
DTSTAMP:20260420T021027
CREATED:20201210T195259Z
LAST-MODIFIED:20210125T184528Z
UID:914-1630022400-1630367999@parkcitywineclub.com
SUMMARY:PC Wine Club ~ Wine Weekend in Walla Walla
DESCRIPTION:
URL:https://parkcitywineclub.com/events/pc-wine-club-wine-weekend-in-walla-walla/
LOCATION:UT
END:VEVENT
BEGIN:VEVENT
DTSTART;TZID=America/Denver:20210824T183000
DTEND;TZID=America/Denver:20210824T200000
DTSTAMP:20260420T021027
CREATED:20210726T210904Z
LAST-MODIFIED:20210726T210904Z
UID:1052-1629829800-1629835200@parkcitywineclub.com
SUMMARY:Table for Twelve ~ A Summer Table\, PC Creamery\, Tuesday\, Aug. 24\, 6:30 pm
DESCRIPTION:Creamy cheese\, gorgeous wines… what more do you need? \nDate and time Tue\, August 24\, 2021 6:30 PM – 7:45 PM MDT \nPark City Creamery 1200 W Lori Ln\, Unit A-3\, off Hwy 248 just as you begin heading toward Kamas – make a right at the new signal! \nDive into the local cheese scene at Park City Creamery paired with Certified Wine Educator Pamela Wood’s wine choices. Taste and discover more about the unique cheese making process from the cheesemaker and owner herself\, Corrinne Zinn. This unique tasting is only open to twelve people. Cost is $73 Reserve your spot at the table!
URL:https://parkcitywineclub.com/events/table-for-twelve-a-summer-table-pc-creamery-tuesday-aug-24-630-pm/
LOCATION:UT
END:VEVENT
BEGIN:VEVENT
DTSTART;TZID=America/Denver:20210808T110000
DTEND;TZID=America/Denver:20210808T130000
DTSTAMP:20260420T021027
CREATED:20210726T210616Z
LAST-MODIFIED:20210726T210616Z
UID:1050-1628420400-1628427600@parkcitywineclub.com
SUMMARY:Brunch & Bubbles with Vintner Paula Kornell\, Sunday\, Aug. 8th\, 11 am at Afterward
DESCRIPTION:Join us for a fantastic Sunday Brunch on the patio at Afterward\, a Tupelo restaurant\, 98 Main St. Heber City. I’m delighted that Paula Kornell will be here to present and talk bubbles with us. \n“Sparkling Wine is about crafting wines that are stylish\, sophisticated\, and engaging\, and—importantly food-friendly. Designed to be drunk” Paula \nWe will be showcasing three courses paired with bubbles and a Kornell family sparkling cocktail. Make your reservation as space is limited. Must be 21+\, Cost is $100 includes tax and gratuity.
URL:https://parkcitywineclub.com/events/brunch-bubbles-with-vintner-paula-kornell-sunday-aug-8th-11-am-at-afterward/
LOCATION:UT
END:VEVENT
BEGIN:VEVENT
DTSTART;TZID=America/Denver:20210725T163000
DTEND;TZID=America/Denver:20210725T193000
DTSTAMP:20260420T021027
CREATED:20210629T054418Z
LAST-MODIFIED:20210629T054418Z
UID:1041-1627230600-1627241400@parkcitywineclub.com
SUMMARY:Winemakers Summer BBQ Bites at Rotary Park\, Live July 25th 4:30pm
DESCRIPTION:Winemaker and Summer BBQ Bites at Rotary Park\, Park City\, Sunday\, July 25th at 4:30 pm. Come meet\, learn and taste the amazing wines from Matt and Audra Naumann of Newfound Wines\, while enjoying some delicious summer BBQ bites! \nOur Menu: White Wine drenched fruit salad – this is adult fruit salad! Zesty grilled shrimp and vegetable kabob Pulled Pork sliders with tangy sauce Delicious Ritual Chocolate Brownie All to be savored and enjoyed with Newfound’s Chuy Vineyard Chardonnay\, Enz Vineyard Pinot Noir\, Gravels Red & Benchland Vineyard Carignan! \nThis live event has limited availability\, by invitation only\, not open to the public\, 21 and over only. $70 per person\, including tax and gratuity!!
URL:https://parkcitywineclub.com/events/winemakers-summer-bbq-bites-at-rotary-park-live-july-25th-430pm/
LOCATION:Rotary Park\, Payday Dr\, Park City\, UT
END:VEVENT
END:VCALENDAR