BEGIN:VCALENDAR
VERSION:2.0
PRODID:-//Park City Wine Club - ECPv6.15.20//NONSGML v1.0//EN
CALSCALE:GREGORIAN
METHOD:PUBLISH
X-WR-CALNAME:Park City Wine Club
X-ORIGINAL-URL:https://parkcitywineclub.com
X-WR-CALDESC:Events for Park City Wine Club
REFRESH-INTERVAL;VALUE=DURATION:PT1H
X-Robots-Tag:noindex
X-PUBLISHED-TTL:PT1H
BEGIN:VTIMEZONE
TZID:America/Denver
BEGIN:DAYLIGHT
TZOFFSETFROM:-0700
TZOFFSETTO:-0600
TZNAME:MDT
DTSTART:20210314T090000
END:DAYLIGHT
BEGIN:STANDARD
TZOFFSETFROM:-0600
TZOFFSETTO:-0700
TZNAME:MST
DTSTART:20211107T080000
END:STANDARD
BEGIN:DAYLIGHT
TZOFFSETFROM:-0700
TZOFFSETTO:-0600
TZNAME:MDT
DTSTART:20220313T090000
END:DAYLIGHT
BEGIN:STANDARD
TZOFFSETFROM:-0600
TZOFFSETTO:-0700
TZNAME:MST
DTSTART:20221106T080000
END:STANDARD
BEGIN:DAYLIGHT
TZOFFSETFROM:-0700
TZOFFSETTO:-0600
TZNAME:MDT
DTSTART:20230312T090000
END:DAYLIGHT
BEGIN:STANDARD
TZOFFSETFROM:-0600
TZOFFSETTO:-0700
TZNAME:MST
DTSTART:20231105T080000
END:STANDARD
END:VTIMEZONE
BEGIN:VEVENT
DTSTART;TZID=America/Denver:20221215T180000
DTEND;TZID=America/Denver:20221215T193000
DTSTAMP:20260421T175724
CREATED:20220830T144108Z
LAST-MODIFIED:20220830T144108Z
UID:1288-1671127200-1671132600@parkcitywineclub.com
SUMMARY:Table for Twelve @ PC Creamery - Holiday Party Pleasers\, December 15th\, 6:00 pm
DESCRIPTION:Fall reservations now available! “Table for Twelve” is now  a Park City Wine Club event. \nAn intimate class focused on the connection of locally-crafted cheeses and world-sourced wines. You’ll taste four to five wines paired to four or five tastes of amazingly prepared cheese dishes. A deep dive and a small group setting set the stage to find pairings to share with your friends. \n\n\n\n\nJoin us once a month for a fun wine and cheese pairing or even dinner experience! Corinne Zinn\, PC Creamery and Pamela Wood\, PC Wine Club offer exciting dishes/bites and pairings. \n  \nOctober 20th – Flavors of Fall. \nNovember 17th – A Thankful Bounty. \nDecember 15th – Holiday Party Pleasers \n  \nLimited to 12 person\, must 21+ – cost is $70 \nReservations required. Table for Twelve\, Fall dates coming soon. \nPC Creamery\, 1200 W. Lori Lane\, A-3\, just off Hwy 248 at the Jordanelle Prkwy/Browns Canyon traffic light.
URL:https://parkcitywineclub.com/events/table-for-twelve-pc-creamery-holiday-party-pleasers-december-15th-600-pm/
LOCATION:UT
CATEGORIES:Table for Twelve
END:VEVENT
END:VCALENDAR