BEGIN:VCALENDAR
VERSION:2.0
PRODID:-//Park City Wine Club - ECPv6.15.20//NONSGML v1.0//EN
CALSCALE:GREGORIAN
METHOD:PUBLISH
X-ORIGINAL-URL:https://parkcitywineclub.com
X-WR-CALDESC:Events for Park City Wine Club
REFRESH-INTERVAL;VALUE=DURATION:PT1H
X-Robots-Tag:noindex
X-PUBLISHED-TTL:PT1H
BEGIN:VTIMEZONE
TZID:America/Denver
BEGIN:DAYLIGHT
TZOFFSETFROM:-0700
TZOFFSETTO:-0600
TZNAME:MDT
DTSTART:20220313T090000
END:DAYLIGHT
BEGIN:STANDARD
TZOFFSETFROM:-0600
TZOFFSETTO:-0700
TZNAME:MST
DTSTART:20221106T080000
END:STANDARD
BEGIN:DAYLIGHT
TZOFFSETFROM:-0700
TZOFFSETTO:-0600
TZNAME:MDT
DTSTART:20230312T090000
END:DAYLIGHT
BEGIN:STANDARD
TZOFFSETFROM:-0600
TZOFFSETTO:-0700
TZNAME:MST
DTSTART:20231105T080000
END:STANDARD
BEGIN:DAYLIGHT
TZOFFSETFROM:-0700
TZOFFSETTO:-0600
TZNAME:MDT
DTSTART:20240310T090000
END:DAYLIGHT
BEGIN:STANDARD
TZOFFSETFROM:-0600
TZOFFSETTO:-0700
TZNAME:MST
DTSTART:20241103T080000
END:STANDARD
END:VTIMEZONE
BEGIN:VEVENT
DTSTART;TZID=America/Denver:20231207T183000
DTEND;TZID=America/Denver:20231207T200000
DTSTAMP:20260420T215119
CREATED:20231011T211757Z
LAST-MODIFIED:20231011T211757Z
UID:1509-1701973800-1701979200@parkcitywineclub.com
SUMMARY:Table for Twelve @ PC Creamery with PC Wine Club - December 7th\, 6:30 pm Easy & Delicious Party Pleasers
DESCRIPTION:Table for Twelve @ PC Creamery with PC Wine Club – Thursday\, December 7th 6:30 pm – Holiday Party Pleasers.\nDecember 7th “Easy & Delicious Party Pleasers” \nYou’ll taste four to five wines paired with a different selection of PC Creamery cheeses and accoutrements – some classes have take home recipes! A deep dive and a small group setting sets the stage to find pairings to share with your friends\, to have at parties or just to enjoy yourself. \nLimited to 12 persons\, must 21+ – cost is $70 ($85 for a choice event). Reservations required. Table for Twelve\, 6:30 pm once a month at Park City Creamery. \nPC Creamery\, 1200 W. Lori Lane\, A-3\, just off Hwy 248 at the Jordanelle Prkwy/Browns Canyon traffic light. NOT in Heber.
URL:https://parkcitywineclub.com/events/table-for-twelve-pc-creamery-with-pc-wine-club-december-7th-630-pm-easy-delicious-party-pleasers/
LOCATION:Park City Creamery\, 1200 W Lori Lane A-3\, Heber City\, UT\, 84036\, United States
CATEGORIES:Table for Twelve
ORGANIZER;CN="Park City Wine Club":MAILTO:parkcitywineclub@gmail.com
END:VEVENT
END:VCALENDAR