BEGIN:VCALENDAR
VERSION:2.0
PRODID:-//Park City Wine Club - ECPv6.15.20//NONSGML v1.0//EN
CALSCALE:GREGORIAN
METHOD:PUBLISH
X-WR-CALNAME:Park City Wine Club
X-ORIGINAL-URL:https://parkcitywineclub.com
X-WR-CALDESC:Events for Park City Wine Club
REFRESH-INTERVAL;VALUE=DURATION:PT1H
X-Robots-Tag:noindex
X-PUBLISHED-TTL:PT1H
BEGIN:VTIMEZONE
TZID:America/Denver
BEGIN:DAYLIGHT
TZOFFSETFROM:-0700
TZOFFSETTO:-0600
TZNAME:MDT
DTSTART:20230312T090000
END:DAYLIGHT
BEGIN:STANDARD
TZOFFSETFROM:-0600
TZOFFSETTO:-0700
TZNAME:MST
DTSTART:20231105T080000
END:STANDARD
BEGIN:DAYLIGHT
TZOFFSETFROM:-0700
TZOFFSETTO:-0600
TZNAME:MDT
DTSTART:20240310T090000
END:DAYLIGHT
BEGIN:STANDARD
TZOFFSETFROM:-0600
TZOFFSETTO:-0700
TZNAME:MST
DTSTART:20241103T080000
END:STANDARD
BEGIN:DAYLIGHT
TZOFFSETFROM:-0700
TZOFFSETTO:-0600
TZNAME:MDT
DTSTART:20250309T090000
END:DAYLIGHT
BEGIN:STANDARD
TZOFFSETFROM:-0600
TZOFFSETTO:-0700
TZNAME:MST
DTSTART:20251102T080000
END:STANDARD
END:VTIMEZONE
BEGIN:VEVENT
DTSTART;TZID=America/Denver:20241024T180000
DTEND;TZID=America/Denver:20241024T200000
DTSTAMP:20260420T053054
CREATED:20240818T164151Z
LAST-MODIFIED:20240917T212341Z
UID:1700-1729792800-1729800000@parkcitywineclub.com
SUMMARY:Table for Twelve @ PC Creamery with PC Wine Club – October 24th\, 6 pm
DESCRIPTION:Savoring Fall – Table for Twelve @ PC Creamery\, October 24th\, 6 pm \nYou’ll taste four to five wines paired with a different selection of PC Creamery cheeses and accoutrements – some classes have take home recipes! A deep dive and a small group setting sets the stage to find pairings to share with your friends\, to have at parties or just to enjoy yourself. \nLimited to 12+ persons\, must 21+ Cost is $70  Reserve HERE \n 
URL:https://parkcitywineclub.com/events/table-for-twelve-pc-creamery-with-pc-wine-club-september-19th-6-pm/
LOCATION:Park City Creamery\, 1200 W Lori Lane A-3\, Heber City\, UT\, 84036\, United States
CATEGORIES:PCWC Live Tasting Event
ORGANIZER;CN="Park City Wine Club":MAILTO:parkcitywineclub@gmail.com
END:VEVENT
END:VCALENDAR