BEGIN:VCALENDAR
VERSION:2.0
PRODID:-//Park City Wine Club - ECPv6.15.20//NONSGML v1.0//EN
CALSCALE:GREGORIAN
METHOD:PUBLISH
X-WR-CALNAME:Park City Wine Club
X-ORIGINAL-URL:https://parkcitywineclub.com
X-WR-CALDESC:Events for Park City Wine Club
REFRESH-INTERVAL;VALUE=DURATION:PT1H
X-Robots-Tag:noindex
X-PUBLISHED-TTL:PT1H
BEGIN:VTIMEZONE
TZID:America/Denver
BEGIN:DAYLIGHT
TZOFFSETFROM:-0700
TZOFFSETTO:-0600
TZNAME:MDT
DTSTART:20230312T090000
END:DAYLIGHT
BEGIN:STANDARD
TZOFFSETFROM:-0600
TZOFFSETTO:-0700
TZNAME:MST
DTSTART:20231105T080000
END:STANDARD
BEGIN:DAYLIGHT
TZOFFSETFROM:-0700
TZOFFSETTO:-0600
TZNAME:MDT
DTSTART:20240310T090000
END:DAYLIGHT
BEGIN:STANDARD
TZOFFSETFROM:-0600
TZOFFSETTO:-0700
TZNAME:MST
DTSTART:20241103T080000
END:STANDARD
BEGIN:DAYLIGHT
TZOFFSETFROM:-0700
TZOFFSETTO:-0600
TZNAME:MDT
DTSTART:20250309T090000
END:DAYLIGHT
BEGIN:STANDARD
TZOFFSETFROM:-0600
TZOFFSETTO:-0700
TZNAME:MST
DTSTART:20251102T080000
END:STANDARD
END:VTIMEZONE
BEGIN:VEVENT
DTSTART;TZID=America/Denver:20241121T180000
DTEND;TZID=America/Denver:20241121T200000
DTSTAMP:20260420T033912
CREATED:20241026T165835Z
LAST-MODIFIED:20241124T230736Z
UID:1735-1732212000-1732219200@parkcitywineclub.com
SUMMARY:Table for Twelve @ PC Creamery with PC Wine Club – November 21st\, 6 pm
DESCRIPTION:Thanksgiving Sides & Wines – Table for Twelve @ PC Creamery\, November 21st\, 6 pm \nYou’ll taste four to five wines paired with a different selection of PC Creamery cheeses prepared in traditional harvest side dishes – with take home recipes! A deep dive and a small group setting sets the stage to find pairings to share with your friends\, to have at parties or just to enjoy yourself. \nLimited to 12+ persons\, must 21+ Cost is $85 for this choice event\,  RESERVE HERE \n 
URL:https://parkcitywineclub.com/events/table-for-twelve-pc-creamery-with-pc-wine-club-november-21st-6-pm/
LOCATION:Park City Creamery\, 1200 W Lori Lane A-3\, Heber City\, UT\, 84036\, United States
CATEGORIES:PCWC Live Tasting Event
ORGANIZER;CN="Park City Wine Club":MAILTO:parkcitywineclub@gmail.com
END:VEVENT
END:VCALENDAR