BEGIN:VCALENDAR
VERSION:2.0
PRODID:-//Park City Wine Club - ECPv6.15.20//NONSGML v1.0//EN
CALSCALE:GREGORIAN
METHOD:PUBLISH
X-ORIGINAL-URL:https://parkcitywineclub.com
X-WR-CALDESC:Events for Park City Wine Club
REFRESH-INTERVAL;VALUE=DURATION:PT1H
X-Robots-Tag:noindex
X-PUBLISHED-TTL:PT1H
BEGIN:VTIMEZONE
TZID:America/Denver
BEGIN:DAYLIGHT
TZOFFSETFROM:-0700
TZOFFSETTO:-0600
TZNAME:MDT
DTSTART:20230312T090000
END:DAYLIGHT
BEGIN:STANDARD
TZOFFSETFROM:-0600
TZOFFSETTO:-0700
TZNAME:MST
DTSTART:20231105T080000
END:STANDARD
BEGIN:DAYLIGHT
TZOFFSETFROM:-0700
TZOFFSETTO:-0600
TZNAME:MDT
DTSTART:20240310T090000
END:DAYLIGHT
BEGIN:STANDARD
TZOFFSETFROM:-0600
TZOFFSETTO:-0700
TZNAME:MST
DTSTART:20241103T080000
END:STANDARD
BEGIN:DAYLIGHT
TZOFFSETFROM:-0700
TZOFFSETTO:-0600
TZNAME:MDT
DTSTART:20250309T090000
END:DAYLIGHT
BEGIN:STANDARD
TZOFFSETFROM:-0600
TZOFFSETTO:-0700
TZNAME:MST
DTSTART:20251102T080000
END:STANDARD
END:VTIMEZONE
BEGIN:VEVENT
DTSTART;TZID=America/Denver:20241212T180000
DTEND;TZID=America/Denver:20241212T200000
DTSTAMP:20260420T020017
CREATED:20241124T230630Z
LAST-MODIFIED:20241124T230809Z
UID:1763-1734026400-1734033600@parkcitywineclub.com
SUMMARY:Holiday Table for Twelve @ PC Creamery with PC Wine Club – December 12th\, 6 pm
DESCRIPTION:Holiday Table for Twelve @ PC Creamery with Pamela Wood of PC Wine Club -Holiday Party Pleasers\, Thursday\, December 12th\, 6 pm\n‘Tis the season – Holiday party Pleasers at Table for Twelve\, Thursday\, December 12th\, 6 pm. Enjoy and learn as you taste four to  five select wines playing with your taste buds and enjoying PC Creamery cheeses that are sure to be a hit at any holiday party or on your festive table! \nLimited to 12+ persons\, must 21+ Cost is $70\,  RESERVE HERE \n 
URL:https://parkcitywineclub.com/events/holiday-table-for-twelve-pc-creamery-with-pc-wine-club-december-12th-6-pm/
LOCATION:Park City Creamery\, 1200 W Lori Lane A-3\, Heber City\, UT\, 84036\, United States
CATEGORIES:PCWC Live Tasting Event
ORGANIZER;CN="Park City Wine Club":MAILTO:parkcitywineclub@gmail.com
END:VEVENT
END:VCALENDAR