BEGIN:VCALENDAR
VERSION:2.0
PRODID:-//Park City Wine Club - ECPv6.15.20//NONSGML v1.0//EN
CALSCALE:GREGORIAN
METHOD:PUBLISH
X-ORIGINAL-URL:https://parkcitywineclub.com
X-WR-CALDESC:Events for Park City Wine Club
REFRESH-INTERVAL;VALUE=DURATION:PT1H
X-Robots-Tag:noindex
X-PUBLISHED-TTL:PT1H
BEGIN:VTIMEZONE
TZID:America/Denver
BEGIN:DAYLIGHT
TZOFFSETFROM:-0700
TZOFFSETTO:-0600
TZNAME:MDT
DTSTART:20220313T090000
END:DAYLIGHT
BEGIN:STANDARD
TZOFFSETFROM:-0600
TZOFFSETTO:-0700
TZNAME:MST
DTSTART:20221106T080000
END:STANDARD
BEGIN:DAYLIGHT
TZOFFSETFROM:-0700
TZOFFSETTO:-0600
TZNAME:MDT
DTSTART:20230312T090000
END:DAYLIGHT
BEGIN:STANDARD
TZOFFSETFROM:-0600
TZOFFSETTO:-0700
TZNAME:MST
DTSTART:20231105T080000
END:STANDARD
BEGIN:DAYLIGHT
TZOFFSETFROM:-0700
TZOFFSETTO:-0600
TZNAME:MDT
DTSTART:20240310T090000
END:DAYLIGHT
BEGIN:STANDARD
TZOFFSETFROM:-0600
TZOFFSETTO:-0700
TZNAME:MST
DTSTART:20241103T080000
END:STANDARD
END:VTIMEZONE
BEGIN:VEVENT
DTSTART;TZID=America/Denver:20230824T180000
DTEND;TZID=America/Denver:20230824T193000
DTSTAMP:20260421T054232
CREATED:20230616T070431Z
LAST-MODIFIED:20230724T142717Z
UID:1448-1692900000-1692905400@parkcitywineclub.com
SUMMARY:Table for Twelve @ PC Creamery with PC Wine Club - August 24th 6 pm
DESCRIPTION:Summer’s Table is open\, August 24th ‘Sangria & Spanish Wines’  \nYou’ll taste four to five wines paired with a different selection of PC Creamery chesses. A deep dive and a small group setting set the stage to find pairings to share with your friends or just to enjoy yourself \n\n\n\n\nJoin us once a month for a fun wine and cheese pairing or even dinner experience! Corinne Zinn\, PC Creamery and Pamela Wood\, PC Wine Club offer exciting dishes/bites and pairings. \nLimited to 12 person\, must 21+ – cost is $70 Reservations required. \n\n\n\n\n\n\nPC Creamery\, 1200 W. Lori Lane\, A-3\, just off Hwy 248 at the Jordanelle Prkwy/Browns Canyon traffic light. NOT in Heber.
URL:https://parkcitywineclub.com/events/table-for-twelve-pc-creamery-with-pc-wine-club-august-24th-6-pm/
LOCATION:Park City Creamery\, 1200 W Lori Lane A-3\, Heber City\, UT\, 84036\, United States
CATEGORIES:Table for Twelve
ORGANIZER;CN="Park City Wine Club":MAILTO:parkcitywineclub@gmail.com
END:VEVENT
END:VCALENDAR