BEGIN:VCALENDAR
VERSION:2.0
PRODID:-//Park City Wine Club - ECPv6.15.20//NONSGML v1.0//EN
CALSCALE:GREGORIAN
METHOD:PUBLISH
X-WR-CALNAME:Park City Wine Club
X-ORIGINAL-URL:https://parkcitywineclub.com
X-WR-CALDESC:Events for Park City Wine Club
REFRESH-INTERVAL;VALUE=DURATION:PT1H
X-Robots-Tag:noindex
X-PUBLISHED-TTL:PT1H
BEGIN:VTIMEZONE
TZID:America/Denver
BEGIN:DAYLIGHT
TZOFFSETFROM:-0700
TZOFFSETTO:-0600
TZNAME:MDT
DTSTART:20240310T090000
END:DAYLIGHT
BEGIN:STANDARD
TZOFFSETFROM:-0600
TZOFFSETTO:-0700
TZNAME:MST
DTSTART:20241103T080000
END:STANDARD
BEGIN:DAYLIGHT
TZOFFSETFROM:-0700
TZOFFSETTO:-0600
TZNAME:MDT
DTSTART:20250309T090000
END:DAYLIGHT
BEGIN:STANDARD
TZOFFSETFROM:-0600
TZOFFSETTO:-0700
TZNAME:MST
DTSTART:20251102T080000
END:STANDARD
BEGIN:DAYLIGHT
TZOFFSETFROM:-0700
TZOFFSETTO:-0600
TZNAME:MDT
DTSTART:20260308T090000
END:DAYLIGHT
BEGIN:STANDARD
TZOFFSETFROM:-0600
TZOFFSETTO:-0700
TZNAME:MST
DTSTART:20261101T080000
END:STANDARD
END:VTIMEZONE
BEGIN:VEVENT
DTSTART;TZID=America/Denver:20251120T180000
DTEND;TZID=America/Denver:20251120T200000
DTSTAMP:20260419T094429
CREATED:20251022T213759Z
LAST-MODIFIED:20251022T214053Z
UID:1957-1763661600-1763668800@parkcitywineclub.com
SUMMARY:Table for Twelve - Easy Holiday Apps & Sides @ PC Creamery\, November 20th\, 6 pm
DESCRIPTION:Come get inspired with some easy holiday appetizers and side dishes paired with a side of wine and education to complete your holiday table! \nYou’ll taste and learn about four to five wines paired with select cheeses and accoutrements from PC Creamery. Come learn about the history behind the wine and gain some new insights on pairings and easy serving recipes! A small group setting sets the stage to enjoy and share this experiences with friends. \nSpace is limited and cost is $75\, must be 21+ RESERVE HERE \nReservations required. Table for Twelve\, 6:00 pm once a month at Park City Creamery
URL:https://parkcitywineclub.com/events/table-for-twelve-easy-holiday-apps-sides-pc-creamery-november-20th-6-pm/
LOCATION:Park City Creamery\, 1200 W Lori Lane A-3\, Heber City\, UT\, 84036\, United States
CATEGORIES:PCWC Live Tasting Event,Table for Twelve,Wine Happenings in Utah
ORGANIZER;CN="Park City Wine Club":MAILTO:parkcitywineclub@gmail.com
END:VEVENT
END:VCALENDAR