BEGIN:VCALENDAR
VERSION:2.0
PRODID:-//Park City Wine Club - ECPv6.15.20//NONSGML v1.0//EN
CALSCALE:GREGORIAN
METHOD:PUBLISH
X-WR-CALNAME:Park City Wine Club
X-ORIGINAL-URL:https://parkcitywineclub.com
X-WR-CALDESC:Events for Park City Wine Club
REFRESH-INTERVAL;VALUE=DURATION:PT1H
X-Robots-Tag:noindex
X-PUBLISHED-TTL:PT1H
BEGIN:VTIMEZONE
TZID:America/Denver
BEGIN:DAYLIGHT
TZOFFSETFROM:-0700
TZOFFSETTO:-0600
TZNAME:MDT
DTSTART:20240310T090000
END:DAYLIGHT
BEGIN:STANDARD
TZOFFSETFROM:-0600
TZOFFSETTO:-0700
TZNAME:MST
DTSTART:20241103T080000
END:STANDARD
BEGIN:DAYLIGHT
TZOFFSETFROM:-0700
TZOFFSETTO:-0600
TZNAME:MDT
DTSTART:20250309T090000
END:DAYLIGHT
BEGIN:STANDARD
TZOFFSETFROM:-0600
TZOFFSETTO:-0700
TZNAME:MST
DTSTART:20251102T080000
END:STANDARD
BEGIN:DAYLIGHT
TZOFFSETFROM:-0700
TZOFFSETTO:-0600
TZNAME:MDT
DTSTART:20260308T090000
END:DAYLIGHT
BEGIN:STANDARD
TZOFFSETFROM:-0600
TZOFFSETTO:-0700
TZNAME:MST
DTSTART:20261101T080000
END:STANDARD
END:VTIMEZONE
BEGIN:VEVENT
DTSTART;TZID=America/Denver:20251214T113000
DTEND;TZID=America/Denver:20251214T133000
DTSTAMP:20260419T081614
CREATED:20251123T230128Z
LAST-MODIFIED:20251123T230128Z
UID:1979-1765711800-1765719000@parkcitywineclub.com
SUMMARY:Table for Twelve - Holiday Brunch & Bubbles Tasting\, Sun. Dec. 14th 11:30 am
DESCRIPTION:Bubbles and Brunch tasting at PC Creamery\, Sunday\, December 14th\, 11:30 am. Join us for some amazing tastes like scrambled eggs with Hidden Treasure (truffle brie)\, Crêpes with Treasure Brie and ham\, and other sweet and savory tastes all paired with a variety of sparkling wines/champagne! \nA toast to the holidays for you and easy\, delicious ideas to warm your winter mornings all season long. So join us after a morning ski or after your morning coffee – space is limited\, must be 21+. Cost is $75 RESERVE HERE
URL:https://parkcitywineclub.com/events/table-for-twelve-holiday-brunch-bubbles-tasting-sun-dec-14th-1130-am/
LOCATION:Park City Creamery\, 1200 W Lori Lane A-3\, Heber City\, UT\, 84036\, United States
CATEGORIES:PCWC Live Tasting Event,Table for Twelve,Wine Happenings in Utah
ORGANIZER;CN="Park City Wine Club":MAILTO:parkcitywineclub@gmail.com
END:VEVENT
END:VCALENDAR