BEGIN:VCALENDAR
VERSION:2.0
PRODID:-//Park City Wine Club - ECPv6.15.20//NONSGML v1.0//EN
CALSCALE:GREGORIAN
METHOD:PUBLISH
X-WR-CALNAME:Park City Wine Club
X-ORIGINAL-URL:https://parkcitywineclub.com
X-WR-CALDESC:Events for Park City Wine Club
REFRESH-INTERVAL;VALUE=DURATION:PT1H
X-Robots-Tag:noindex
X-PUBLISHED-TTL:PT1H
BEGIN:VTIMEZONE
TZID:America/Denver
BEGIN:DAYLIGHT
TZOFFSETFROM:-0700
TZOFFSETTO:-0600
TZNAME:MDT
DTSTART:20250309T090000
END:DAYLIGHT
BEGIN:STANDARD
TZOFFSETFROM:-0600
TZOFFSETTO:-0700
TZNAME:MST
DTSTART:20251102T080000
END:STANDARD
BEGIN:DAYLIGHT
TZOFFSETFROM:-0700
TZOFFSETTO:-0600
TZNAME:MDT
DTSTART:20260308T090000
END:DAYLIGHT
BEGIN:STANDARD
TZOFFSETFROM:-0600
TZOFFSETTO:-0700
TZNAME:MST
DTSTART:20261101T080000
END:STANDARD
BEGIN:DAYLIGHT
TZOFFSETFROM:-0700
TZOFFSETTO:-0600
TZNAME:MDT
DTSTART:20270314T090000
END:DAYLIGHT
BEGIN:STANDARD
TZOFFSETFROM:-0600
TZOFFSETTO:-0700
TZNAME:MST
DTSTART:20271107T080000
END:STANDARD
END:VTIMEZONE
BEGIN:VEVENT
DTSTART;TZID=America/Denver:20260108T183000
DTEND;TZID=America/Denver:20260108T210000
DTSTAMP:20260419T140935
CREATED:20251123T231524Z
LAST-MODIFIED:20251123T231524Z
UID:1985-1767897000-1767906000@parkcitywineclub.com
SUMMARY:Annual Wine Exchange 2026 ~ A New Year Tradition ~Thursday\, January 8th - 6:30 pm
DESCRIPTION:Celebrate the New Year with a PC Wine Club tradition. PCWC’s Annual “Wine Exchange” This has become a tradition for 14 years ~ a great way to relax\, enjoy\, eat\, drink and have fun after the hustle and bustle of the holidays! Thursday\, January 8th\, 6:30 pm at Jeremy Ranch Country Club\, Park City. \nThe evening will pair 3 wines\, plus a sparkling starter to enjoy with a warm simple\, relaxed dinner . The main attraction of the night is\, of course\, the “Wine Exchange”! Must be 21+\, Cost is $80 or $65 for those participating in dry January RESERVE HERE
URL:https://parkcitywineclub.com/events/annual-wine-exchange-2026-a-new-year-tradition-thursday-january-8th-630-pm/
LOCATION:Jeremy Ranch Golf & Country CLub\, Jeremy Ranch Rd\, Park City\, UT\, 84098\, United States
CATEGORIES:Dinner Pairings,PCWC Live Tasting Event,Wine Happenings in Utah
ORGANIZER;CN="Park City Wine Club":MAILTO:parkcitywineclub@gmail.com
END:VEVENT
END:VCALENDAR