BEGIN:VCALENDAR
VERSION:2.0
PRODID:-//Park City Wine Club - ECPv6.15.20//NONSGML v1.0//EN
CALSCALE:GREGORIAN
METHOD:PUBLISH
X-ORIGINAL-URL:https://parkcitywineclub.com
X-WR-CALDESC:Events for Park City Wine Club
REFRESH-INTERVAL;VALUE=DURATION:PT1H
X-Robots-Tag:noindex
X-PUBLISHED-TTL:PT1H
BEGIN:VTIMEZONE
TZID:America/Denver
BEGIN:DAYLIGHT
TZOFFSETFROM:-0700
TZOFFSETTO:-0600
TZNAME:MDT
DTSTART:20230312T090000
END:DAYLIGHT
BEGIN:STANDARD
TZOFFSETFROM:-0600
TZOFFSETTO:-0700
TZNAME:MST
DTSTART:20231105T080000
END:STANDARD
BEGIN:DAYLIGHT
TZOFFSETFROM:-0700
TZOFFSETTO:-0600
TZNAME:MDT
DTSTART:20240310T090000
END:DAYLIGHT
BEGIN:STANDARD
TZOFFSETFROM:-0600
TZOFFSETTO:-0700
TZNAME:MST
DTSTART:20241103T080000
END:STANDARD
BEGIN:DAYLIGHT
TZOFFSETFROM:-0700
TZOFFSETTO:-0600
TZNAME:MDT
DTSTART:20250309T090000
END:DAYLIGHT
BEGIN:STANDARD
TZOFFSETFROM:-0600
TZOFFSETTO:-0700
TZNAME:MST
DTSTART:20251102T080000
END:STANDARD
END:VTIMEZONE
BEGIN:VEVENT
DTSTART;TZID=America/Denver:20240910T173000
DTEND;TZID=America/Denver:20240910T203000
DTSTAMP:20260422T024550
CREATED:20240811T012906Z
LAST-MODIFIED:20240811T012906Z
UID:1697-1725989400-1726000200@parkcitywineclub.com
SUMMARY:Wine Night at Cucina Wine Bar\, SLC - Tuesday\, September 10th- 5:30pm OR 6:30 pm
DESCRIPTION:Wine Nights at Cucina Wine Bar SLC – A fun\, social and educational tasting event! \nTuesday\, September 10th\, taste a variety of wines – from Grant Jennings\, Piattelli Vineyards – Wines of Argentina! \nThis tasting is open to 55 people – 25 spots at 5:30 pm and 25 spots at 6:30 pm \nCost is $35 to taste hand selected wines. Must be 21+ RESERVE HERE \nMake it a night out and enjoy dinner at Cucina – reservations encouraged – call 801-322-3055   \nCucina Wine Bar\, 1026 2nd Ave.\, Salt Lake City
URL:https://parkcitywineclub.com/events/wine-night-at-cucina-wine-bar-slc-tuesday-september-10th-530pm-or-630-pm/
LOCATION:Cucina Wine Bar\, SLC\, 1026 2nd Avenue\, Salt Lake City\, UT\, 84103\, United States
CATEGORIES:PCWC Live Tasting Event
ORGANIZER;CN="Park City Wine Club":MAILTO:parkcitywineclub@gmail.com
END:VEVENT
END:VCALENDAR