BEGIN:VCALENDAR
VERSION:2.0
PRODID:-//Park City Wine Club - ECPv6.15.20//NONSGML v1.0//EN
CALSCALE:GREGORIAN
METHOD:PUBLISH
X-WR-CALNAME:Park City Wine Club
X-ORIGINAL-URL:https://parkcitywineclub.com
X-WR-CALDESC:Events for Park City Wine Club
REFRESH-INTERVAL;VALUE=DURATION:PT1H
X-Robots-Tag:noindex
X-PUBLISHED-TTL:PT1H
BEGIN:VTIMEZONE
TZID:America/Denver
BEGIN:DAYLIGHT
TZOFFSETFROM:-0700
TZOFFSETTO:-0600
TZNAME:MDT
DTSTART:20240310T090000
END:DAYLIGHT
BEGIN:STANDARD
TZOFFSETFROM:-0600
TZOFFSETTO:-0700
TZNAME:MST
DTSTART:20241103T080000
END:STANDARD
BEGIN:DAYLIGHT
TZOFFSETFROM:-0700
TZOFFSETTO:-0600
TZNAME:MDT
DTSTART:20250309T090000
END:DAYLIGHT
BEGIN:STANDARD
TZOFFSETFROM:-0600
TZOFFSETTO:-0700
TZNAME:MST
DTSTART:20251102T080000
END:STANDARD
BEGIN:DAYLIGHT
TZOFFSETFROM:-0700
TZOFFSETTO:-0600
TZNAME:MDT
DTSTART:20260308T090000
END:DAYLIGHT
BEGIN:STANDARD
TZOFFSETFROM:-0600
TZOFFSETTO:-0700
TZNAME:MST
DTSTART:20261101T080000
END:STANDARD
END:VTIMEZONE
BEGIN:VEVENT
DTSTART;TZID=America/Denver:20250824T173000
DTEND;TZID=America/Denver:20250824T200000
DTSTAMP:20260419T073848
CREATED:20250712T204709Z
LAST-MODIFIED:20250715T030050Z
UID:1900-1756056600-1756065600@parkcitywineclub.com
SUMMARY:PC Wine Club Anniversary Member's Event\, August 24th 5:30 pm Rotary Park\, PC
DESCRIPTION:Join us for our annual Anniversary Member’s Event\, Sunday afternoon\, August 24th starting at 5:30 pm. \n“Summer in the Park” to thank you for your support for the past years\, the many years prior and the year ahead. We’ll be serving up some great summer bites and a couple of surprises too. \nSo come join me and let’s enjoy! Must be a current PCWC member\, 21+ Cost is $70 RESERVE HERE 
URL:https://parkcitywineclub.com/events/pc-wine-club-anniversary-members-event-august-24th-530-pm-rotary-park-pc/
LOCATION:Rotary Park\, Payday Dr\, Park City\, UT
CATEGORIES:PCWC Live Tasting Event
ORGANIZER;CN="Park City Wine Club":MAILTO:parkcitywineclub@gmail.com
END:VEVENT
END:VCALENDAR