BEGIN:VCALENDAR
VERSION:2.0
PRODID:-//Park City Wine Club - ECPv6.15.20//NONSGML v1.0//EN
CALSCALE:GREGORIAN
METHOD:PUBLISH
X-ORIGINAL-URL:https://parkcitywineclub.com
X-WR-CALDESC:Events for Park City Wine Club
REFRESH-INTERVAL;VALUE=DURATION:PT1H
X-Robots-Tag:noindex
X-PUBLISHED-TTL:PT1H
BEGIN:VTIMEZONE
TZID:America/Denver
BEGIN:DAYLIGHT
TZOFFSETFROM:-0700
TZOFFSETTO:-0600
TZNAME:MDT
DTSTART:20250309T090000
END:DAYLIGHT
BEGIN:STANDARD
TZOFFSETFROM:-0600
TZOFFSETTO:-0700
TZNAME:MST
DTSTART:20251102T080000
END:STANDARD
BEGIN:DAYLIGHT
TZOFFSETFROM:-0700
TZOFFSETTO:-0600
TZNAME:MDT
DTSTART:20260308T090000
END:DAYLIGHT
BEGIN:STANDARD
TZOFFSETFROM:-0600
TZOFFSETTO:-0700
TZNAME:MST
DTSTART:20261101T080000
END:STANDARD
BEGIN:DAYLIGHT
TZOFFSETFROM:-0700
TZOFFSETTO:-0600
TZNAME:MDT
DTSTART:20270314T090000
END:DAYLIGHT
BEGIN:STANDARD
TZOFFSETFROM:-0600
TZOFFSETTO:-0700
TZNAME:MST
DTSTART:20271107T080000
END:STANDARD
END:VTIMEZONE
BEGIN:VEVENT
DTSTART;TZID=America/Denver:20260304T183000
DTEND;TZID=America/Denver:20260304T210000
DTSTAMP:20260419T065842
CREATED:20260228T221937Z
LAST-MODIFIED:20260228T222123Z
UID:2043-1772649000-1772658000@parkcitywineclub.com
SUMMARY:Winter Wine Dinner March 4th\, Courchevel Bistro w/ Parallel Wines
DESCRIPTION:Join me and Steve Gage\, the new General Manager for Parallel Napa Valley\, at Courchevel Bistro\, Park City – Wednesday\, March 4th\, 6:30 pm for our “Winter Wine Dinner”\, featuring a full 3 course dinner paired with highly-rated\, small production Parallel Wines. The winery was founded in 1999 by long-time Park City residents and is celebrating its 27th year with famed winemaker Philippe Melka. Let’s celebrate their wines and support the National Ability Center with good food & good company! \nMust be 21+ Cost is $225 inclusive: dinner\, wine\, tax and gratuity. RESERVE HERE \n72 hour cancellation policy applies
URL:https://parkcitywineclub.com/events/winter-wine-dinner-march-4th-courchevel-bistro-w-parallel-wines/
LOCATION:UT
CATEGORIES:PCWC Live Tasting Event
END:VEVENT
BEGIN:VEVENT
DTSTART;TZID=America/Denver:20260318T173000
DTEND;TZID=America/Denver:20260318T200000
DTSTAMP:20260419T065842
CREATED:20260228T221429Z
LAST-MODIFIED:20260228T221650Z
UID:2041-1773855000-1773864000@parkcitywineclub.com
SUMMARY:Wine Night @ Cucina SLC \, Wednesday\, March 18th 5:30 OR 6:30 pm
DESCRIPTION:Wine Nights at Cucina Wine Bar SLC – A fun\, social and educational tasting event! \nJoin us for some great wines\, social mingling and a side of education on Wednesday\, March 18th at Cucina Wine Bar\, SLC. \nWe’ll be tasting and educating through a hand selected line-up of some amazing wines. \n20 spots available at 5:30 pm and 25 spots at 6:30 pm Cost is $35 Must be 21+ RESERVE HERE
URL:https://parkcitywineclub.com/events/wine-night-cucina-slc-wednesday-march-18th-530-or-630-pm/
LOCATION:Cucina Wine Bar\, 1026 2nd Avenue\, Salt Lake City\, UT\, 84103\, United States
CATEGORIES:PCWC Live Tasting Event,Wine Happenings in Utah
ORGANIZER;CN="Park City Wine Club":MAILTO:parkcitywineclub@gmail.com
END:VEVENT
END:VCALENDAR