BEGIN:VCALENDAR
VERSION:2.0
PRODID:-//Park City Wine Club - ECPv6.15.20//NONSGML v1.0//EN
CALSCALE:GREGORIAN
METHOD:PUBLISH
X-WR-CALNAME:Park City Wine Club
X-ORIGINAL-URL:https://parkcitywineclub.com
X-WR-CALDESC:Events for Park City Wine Club
REFRESH-INTERVAL;VALUE=DURATION:PT1H
X-Robots-Tag:noindex
X-PUBLISHED-TTL:PT1H
BEGIN:VTIMEZONE
TZID:America/Denver
BEGIN:DAYLIGHT
TZOFFSETFROM:-0700
TZOFFSETTO:-0600
TZNAME:MDT
DTSTART:20240310T090000
END:DAYLIGHT
BEGIN:STANDARD
TZOFFSETFROM:-0600
TZOFFSETTO:-0700
TZNAME:MST
DTSTART:20241103T080000
END:STANDARD
BEGIN:DAYLIGHT
TZOFFSETFROM:-0700
TZOFFSETTO:-0600
TZNAME:MDT
DTSTART:20250309T090000
END:DAYLIGHT
BEGIN:STANDARD
TZOFFSETFROM:-0600
TZOFFSETTO:-0700
TZNAME:MST
DTSTART:20251102T080000
END:STANDARD
BEGIN:DAYLIGHT
TZOFFSETFROM:-0700
TZOFFSETTO:-0600
TZNAME:MDT
DTSTART:20260308T090000
END:DAYLIGHT
BEGIN:STANDARD
TZOFFSETFROM:-0600
TZOFFSETTO:-0700
TZNAME:MST
DTSTART:20261101T080000
END:STANDARD
END:VTIMEZONE
BEGIN:VEVENT
DTSTART;TZID=America/Denver:20250205T183000
DTEND;TZID=America/Denver:20250205T210000
DTSTAMP:20260422T040659
CREATED:20250126T194324Z
LAST-MODIFIED:20250715T031447Z
UID:1791-1738780200-1738789200@parkcitywineclub.com
SUMMARY:Pop Up Winemaker Event @ Jeremy Ranch\, February 5th\, 6;30 pm
DESCRIPTION:Pop up Winemaker event kicks off the month of February\, with small plates and fine wines – Wednesday\, February 5th\, Jeremy Ranch Golf and Country Club 6:30 pm.\nEnjoy 5 small plates from Chef Britt that are paired to 5 wonderful wines. Space is limited to only 20 persons\, must be 21+\, cost is $125 including tax & gratuity. \nRESERVE HERE
URL:https://parkcitywineclub.com/events/pop-up-winemaker-event-jeremy-ranch-februasry-5th-630-pm/
LOCATION:Jeremy Ranch Country Club\, Jeremy Ranch Rd\, Park City\, UT\, 84098\, United States
CATEGORIES:PCWC Live Tasting Event
ORGANIZER;CN="Park City Wine Club":MAILTO:parkcitywineclub@gmail.com
END:VEVENT
END:VCALENDAR